Package: AIMS Version: 1.40.0 Command: /home/biocbuild/bbs-3.21-bioc/R/bin/R CMD build --keep-empty-dirs --no-resave-data AIMS StartedAt: 2025-10-01 16:11:03 -0400 (Wed, 01 Oct 2025) EndedAt: 2025-10-01 16:11:18 -0400 (Wed, 01 Oct 2025) EllapsedTime: 15.0 seconds RetCode: 0 Status: OK PackageFile: AIMS_1.40.0.tar.gz PackageFileSize: 485.5 KiB