Package: AIMS Version: 1.40.0 Command: /Library/Frameworks/R.framework/Resources/bin/R CMD INSTALL AIMS StartedAt: 2025-09-29 15:20:22 -0400 (Mon, 29 Sep 2025) EndedAt: 2025-09-29 15:20:42 -0400 (Mon, 29 Sep 2025) EllapsedTime: 19.8 seconds RetCode: 0 Status: OK