Package: AHMassBank Version: 1.10.0 Command: /Library/Frameworks/R.framework/Resources/bin/R CMD INSTALL AHMassBank StartedAt: 2025-11-03 15:42:35 -0500 (Mon, 03 Nov 2025) EndedAt: 2025-11-03 15:43:29 -0500 (Mon, 03 Nov 2025) EllapsedTime: 53.8 seconds RetCode: 0 Status: OK