Package: AHMassBank Version: 1.10.0 Command: /Library/Frameworks/R.framework/Resources/bin/R CMD INSTALL AHMassBank StartedAt: 2025-11-06 15:21:27 -0500 (Thu, 06 Nov 2025) EndedAt: 2025-11-06 15:21:44 -0500 (Thu, 06 Nov 2025) EllapsedTime: 16.7 seconds RetCode: 0 Status: OK