Package: AHMassBank Version: 1.10.0 Command: /Library/Frameworks/R.framework/Resources/bin/R CMD build --keep-empty-dirs --no-resave-data AHMassBank StartedAt: 2025-11-06 15:36:16 -0500 (Thu, 06 Nov 2025) EndedAt: 2025-11-06 15:36:39 -0500 (Thu, 06 Nov 2025) EllapsedTime: 23.2 seconds RetCode: 0 Status: OK PackageFile: AHMassBank_1.10.0.tar.gz PackageFileSize: 293.4 KiB