Package: AHMassBank Version: 1.10.0 Maintainer: Johannes Rainer MaintainerEmail: Johannes.Rainer at eurac.edu git_url: https://git.bioconductor.org/packages/AHMassBank git_branch: RELEASE_3_22 git_last_commit: 347350a git_last_commit_date: 2025-10-29 11:21:58 -0500 (Wed, 29 Oct 2025)