Package: AGDEX Version: 1.56.0 Command: E:\biocbuild\bbs-3.21-bioc\R\bin\R.exe CMD INSTALL AGDEX StartedAt: 2025-08-14 16:23:21 -0400 (Thu, 14 Aug 2025) EndedAt: 2025-08-14 16:23:43 -0400 (Thu, 14 Aug 2025) EllapsedTime: 21.9 seconds RetCode: 0 Status: OK