Package: AGDEX Version: 1.56.0 Command: chmod a+r AGDEX -R && E:\biocbuild\bbs-3.21-bioc\R\bin\R.exe CMD build --keep-empty-dirs --no-resave-data AGDEX StartedAt: 2025-08-14 17:16:58 -0400 (Thu, 14 Aug 2025) EndedAt: 2025-08-14 17:17:42 -0400 (Thu, 14 Aug 2025) EllapsedTime: 44.3 seconds RetCode: 0 Status: OK PackageFile: AGDEX_1.56.0.tar.gz PackageFileSize: 486.7 KiB