Package: AGDEX Version: 1.58.0 Command: /home/biocbuild/bbs-3.22-bioc/R/bin/R CMD build --keep-empty-dirs --no-resave-data --md5 AGDEX StartedAt: 2025-11-06 16:10:35 -0500 (Thu, 06 Nov 2025) EndedAt: 2025-11-06 16:10:59 -0500 (Thu, 06 Nov 2025) EllapsedTime: 24.0 seconds RetCode: 0 Status: OK PackageFile: AGDEX_1.58.0.tar.gz PackageFileSize: 488.7 KiB