Package: AGDEX Version: 1.56.0 Command: /Library/Frameworks/R.framework/Resources/bin/R CMD build --keep-empty-dirs --no-resave-data AGDEX StartedAt: 2025-04-21 15:54:31 -0400 (Mon, 21 Apr 2025) EndedAt: 2025-04-21 15:55:01 -0400 (Mon, 21 Apr 2025) EllapsedTime: 29.7 seconds RetCode: 0 Status: OK PackageFile: AGDEX_1.56.0.tar.gz PackageFileSize: 487.2 KiB