Package: AGDEX Version: 1.56.0 Command: rm -rf AGDEX.buildbin-libdir && mkdir AGDEX.buildbin-libdir && /Users/biocbuild/BBS/utils/build-universal.sh AGDEX_1.56.0.tar.gz /Library/Frameworks/R.framework/Resources/bin/R AGDEX.buildbin-libdir StartedAt: 2025-04-22 00:32:33 -0400 (Tue, 22 Apr 2025) EndedAt: 2025-04-22 00:33:01 -0400 (Tue, 22 Apr 2025) EllapsedTime: 27.6 seconds RetCode: 0 Status: OK PackageFile: AGDEX_1.56.0.tgz PackageFileSize: 559.7 KiB