Package: ADImpute Version: 1.18.0 Command: rm -rf ADImpute.buildbin-libdir && mkdir ADImpute.buildbin-libdir && /Users/biocbuild/BBS/utils/build-universal.sh ADImpute_1.18.0.tar.gz /Library/Frameworks/R.framework/Resources/bin/R ADImpute.buildbin-libdir StartedAt: 2025-04-22 00:32:33 -0400 (Tue, 22 Apr 2025) EndedAt: 2025-04-22 00:32:46 -0400 (Tue, 22 Apr 2025) EllapsedTime: 12.7 seconds RetCode: 0 Status: OK PackageFile: ADImpute_1.18.0.tgz PackageFileSize: 2.298 MiB