Package: ADAPT Version: 1.4.0 Command: /home/biocbuild/R/R/bin/R CMD INSTALL ADAPT StartedAt: 2025-11-20 22:12:40 -0000 (Thu, 20 Nov 2025) EndedAt: 2025-11-20 22:13:50 -0000 (Thu, 20 Nov 2025) EllapsedTime: 69.5 seconds RetCode: 0 Status: OK