Package: ADAPT Version: 1.4.0 Command: /home/biocbuild/R/R/bin/R CMD build --keep-empty-dirs --no-resave-data ADAPT StartedAt: 2025-11-21 00:02:19 -0000 (Fri, 21 Nov 2025) EndedAt: 2025-11-21 00:03:36 -0000 (Fri, 21 Nov 2025) EllapsedTime: 77.0 seconds RetCode: 1 Status: ERROR PackageFile: None PackageFileSize: NA