Package: ADAPT Version: 1.3.0 Command: rm -rf ADAPT.buildbin-libdir && mkdir ADAPT.buildbin-libdir && F:\biocbuild\bbs-3.22-bioc\R\bin\R.exe CMD INSTALL --build --library=ADAPT.buildbin-libdir ADAPT_1.3.0.tar.gz StartedAt: 2025-08-15 09:41:08 -0400 (Fri, 15 Aug 2025) EndedAt: 2025-08-15 09:44:10 -0400 (Fri, 15 Aug 2025) EllapsedTime: 181.4 seconds RetCode: 0 Status: OK PackageFile: ADAPT_1.3.0.zip PackageFileSize: 1.019 MiB