Package: ADAMgui Version: 1.26.0 Command: /home/biocbuild/R/R/bin/R CMD INSTALL ADAMgui StartedAt: 2025-11-17 21:55:55 -0000 (Mon, 17 Nov 2025) EndedAt: 2025-11-17 21:56:34 -0000 (Mon, 17 Nov 2025) EllapsedTime: 39.3 seconds RetCode: 0 Status: OK