Package: ADAMgui Version: 1.26.0 Command: /home/biocbuild/R/R/bin/R CMD build --keep-empty-dirs --no-resave-data ADAMgui StartedAt: 2025-11-17 23:19:46 -0000 (Mon, 17 Nov 2025) EndedAt: 2025-11-17 23:20:39 -0000 (Mon, 17 Nov 2025) EllapsedTime: 53.0 seconds RetCode: 0 Status: OK PackageFile: ADAMgui_1.26.0.tar.gz PackageFileSize: 1.746 MiB