Package: ADAM Version: 1.25.0 Command: rm -rf ADAM.buildbin-libdir && mkdir ADAM.buildbin-libdir && F:\biocbuild\bbs-3.22-bioc\R\bin\R.exe CMD INSTALL --build --library=ADAM.buildbin-libdir ADAM_1.25.0.tar.gz StartedAt: 2025-08-15 09:41:08 -0400 (Fri, 15 Aug 2025) EndedAt: 2025-08-15 09:43:05 -0400 (Fri, 15 Aug 2025) EllapsedTime: 116.8 seconds RetCode: 0 Status: OK PackageFile: ADAM_1.25.0.zip PackageFileSize: 722 KiB