Package: ADAM Version: 1.26.0 Command: /home/biocbuild/bbs-3.22-bioc/R/bin/R CMD INSTALL ADAM StartedAt: 2025-11-06 15:38:26 -0500 (Thu, 06 Nov 2025) EndedAt: 2025-11-06 15:38:59 -0500 (Thu, 06 Nov 2025) EllapsedTime: 33.4 seconds RetCode: 0 Status: OK