Package: ACME Version: 2.64.0 Command: /home/biocbuild/bbs-3.21-bioc/R/bin/R CMD check --install=check:ACME.install-out.txt --library=/home/biocbuild/bbs-3.21-bioc/R/site-library --timings ACME_2.64.0.tar.gz StartedAt: 2025-10-15 20:40:13 -0400 (Wed, 15 Oct 2025) EndedAt: 2025-10-15 20:41:13 -0400 (Wed, 15 Oct 2025) EllapsedTime: 59.1 seconds RetCode: 0 Status: WARNINGS CheckDir: ACME.Rcheck Warnings: 1