Package: ACME Version: 2.64.0 Command: rm -rf ACME.buildbin-libdir && mkdir ACME.buildbin-libdir && /Users/biocbuild/BBS/utils/build-universal.sh ACME_2.64.0.tar.gz /Library/Frameworks/R.framework/Resources/bin/R ACME.buildbin-libdir StartedAt: 2025-10-14 12:48:10 -0400 (Tue, 14 Oct 2025) EndedAt: 2025-10-14 12:48:31 -0400 (Tue, 14 Oct 2025) EllapsedTime: 21.4 seconds RetCode: 0 Status: OK PackageFile: ACME_2.64.0.tgz PackageFileSize: 10.16 MiB