Package: ACME Version: 2.64.0 Command: /Library/Frameworks/R.framework/Resources/bin/R CMD check --install=check:ACME.install-out.txt --library=/Library/Frameworks/R.framework/Resources/library --no-vignettes --timings ACME_2.64.0.tar.gz StartedAt: 2025-04-21 18:58:48 -0400 (Mon, 21 Apr 2025) EndedAt: 2025-04-21 19:00:07 -0400 (Mon, 21 Apr 2025) EllapsedTime: 79.9 seconds RetCode: 0 Status: OK CheckDir: ACME.Rcheck Warnings: 0