Package: ACE Version: 1.26.0 Command: /home/biocbuild/bbs-3.21-bioc/R/bin/R CMD INSTALL ACE StartedAt: 2025-10-15 15:15:34 -0400 (Wed, 15 Oct 2025) EndedAt: 2025-10-15 15:15:53 -0400 (Wed, 15 Oct 2025) EllapsedTime: 19.1 seconds RetCode: 0 Status: OK