Package: ACE Version: 1.26.0 Command: /home/biocbuild/bbs-3.21-bioc/R/bin/R CMD check --install=check:ACE.install-out.txt --library=/home/biocbuild/bbs-3.21-bioc/R/site-library --timings ACE_1.26.0.tar.gz StartedAt: 2025-10-15 20:40:13 -0400 (Wed, 15 Oct 2025) EndedAt: 2025-10-15 20:43:26 -0400 (Wed, 15 Oct 2025) EllapsedTime: 192.4 seconds RetCode: 0 Status: OK CheckDir: ACE.Rcheck Warnings: 0