Welcome to mirrors.dotsrc.org

All our mirrors of open source software are available via http, https, ftp and an onion service. More information about our mirrors including statistics and contact information is available on our mirror info pages.

For information about dotsrc.org and our other services please go to our website.

Index of /bioconductor/checkResults/release/bioc-LATEST/

File Name  ↓ File Size  ↓ Date  ↓ 
--
-2025-04-09 15:55:35
-2025-04-09 15:55:47
-2025-04-09 15:55:52
-2025-04-09 15:56:01
-2025-04-09 15:56:02
-2025-04-09 15:56:03
-2025-04-09 15:56:04
-2025-04-09 15:56:05
-2025-04-09 15:56:05
-2025-04-09 15:56:06
-2025-04-09 15:56:06
-2025-04-09 15:56:06
-2025-04-09 15:56:06
-2025-04-09 15:56:07
-2025-04-09 15:56:08
-2025-04-09 15:56:09
-2025-04-09 15:56:09
-2025-04-09 15:56:09
-2025-04-09 15:56:11
-2025-04-09 15:56:11
-2025-04-09 15:56:14
-2025-04-09 15:56:14
-2025-04-09 15:56:14
-2025-04-09 15:56:15
-2025-04-09 15:56:15
-2025-04-09 15:56:15
-2025-04-09 15:56:16
-2025-04-09 15:56:17
-2025-04-09 15:56:17
-2025-04-09 15:56:17
-2025-04-09 15:56:18
-2025-04-09 15:56:20
-2025-04-09 15:56:20
-2025-04-09 15:56:20
-2025-04-09 15:56:20
-2025-04-09 15:56:20
-2025-04-09 15:56:21
-2025-04-09 15:56:21
-2025-04-09 15:56:22
-2025-11-20 17:02:55
-2025-11-20 17:06:20
-2025-11-20 17:07:07
-2025-11-20 17:07:07
-2025-11-20 17:07:07
-2025-11-20 17:07:07
-2025-11-20 17:07:07
-2025-11-20 17:07:07
-2025-11-20 17:07:07
-2025-11-20 17:07:07
-2025-11-20 17:07:07
-2025-11-20 17:07:07
-2025-11-20 17:07:07
-2025-11-20 17:07:07
-2025-11-20 17:07:07
-2025-11-20 17:07:07
-2025-11-20 17:07:07
-2025-11-20 17:07:07
-2025-11-20 17:07:07
-2025-11-20 17:07:07
-2025-11-20 17:07:07
-2025-11-20 17:07:07
-2025-11-20 17:07:07
-2025-11-20 17:07:07
-2025-11-20 17:07:07
-2025-11-20 17:07:07
-2025-11-20 17:07:07
-2025-11-20 17:07:07
-2025-11-20 17:07:07
-2025-11-20 17:07:07
-2025-11-20 17:07:07
-2025-11-20 17:07:07
-2025-11-20 17:07:07
-2025-11-20 17:07:07
-2025-11-20 17:07:07
-2025-11-20 17:07:07
-2025-11-20 17:07:07
-2025-11-20 17:07:07
-2025-11-20 17:07:07
-2025-11-20 17:07:07
-2025-11-20 17:07:08
-2025-11-20 17:07:08
-2025-11-20 17:07:08
-2025-11-20 17:07:08
-2025-11-20 17:07:08
-2025-11-20 17:07:08
-2025-11-20 17:07:08
-2025-11-20 17:07:08
-2025-11-20 17:07:08
-2025-11-20 17:07:08
-2025-11-20 17:07:08
-2025-11-20 17:07:08
-2025-11-20 17:07:08
-2025-11-20 17:07:08
-2025-11-20 17:07:08
-2025-11-20 17:07:08
-2025-11-20 17:07:08
-2025-11-20 17:07:08
-2025-11-20 17:07:08
-2025-11-20 17:07:08
-2025-11-20 17:07:08
-2025-11-20 17:07:08
-2025-11-20 17:07:08
-2025-11-20 17:07:08
-2025-11-20 17:07:08
-2025-11-20 17:07:08
-2025-11-20 17:07:08
-2025-11-20 17:07:08
-2025-11-20 17:07:08
-2025-11-20 17:07:08
-2025-11-20 17:07:08
-2025-11-20 17:07:08
-2025-11-20 17:07:08
-2025-11-20 17:07:08
-2025-11-20 17:07:08
-2025-11-20 17:07:08
-2025-11-20 17:07:08
-2025-11-20 17:07:08
-2025-11-20 17:07:08
-2025-11-20 17:07:08
-2025-11-20 17:07:08
-2025-11-20 17:07:08
-2025-11-20 17:07:08
-2025-11-20 17:07:09
-2025-11-20 17:07:09
-2025-11-20 17:07:09
-2025-11-20 17:07:09
-2025-11-20 17:07:09
-2025-11-20 17:07:09
-2025-11-20 17:07:09
-2025-11-20 17:07:09
-2025-11-20 17:07:09
-2025-11-20 17:07:09
-2025-11-20 17:07:09
-2025-11-20 17:07:09
-2025-11-20 17:07:09
-2025-11-20 17:07:09
-2025-11-20 17:07:09
-2025-11-20 17:07:09
-2025-11-20 17:07:09
-2025-11-20 17:07:09
-2025-11-20 17:07:09
-2025-11-20 17:07:09
-2025-11-20 17:07:09
-2025-11-20 17:07:09
-2025-11-20 17:07:09
-2025-11-20 17:07:09
-2025-11-20 17:07:09
-2025-11-20 17:07:09
-2025-11-20 17:07:09
-2025-11-20 17:07:09
-2025-11-20 17:07:09
-2025-11-20 17:07:09
-2025-11-20 17:07:09
-2025-11-20 17:07:09
-2025-11-20 17:07:09
-2025-11-20 17:07:09
-2025-11-20 17:07:09
-2025-11-20 17:07:09
-2025-11-20 17:07:09
-2025-11-20 17:07:09
-2025-11-20 17:07:09
-2025-11-20 17:07:09
-2025-11-20 17:07:09
-2025-11-20 17:07:09
-2025-11-20 17:07:09
-2025-11-20 17:07:10
-2025-11-20 17:07:10
-2025-11-20 17:07:10
-2025-11-20 17:07:10
-2025-11-20 17:07:10
-2025-11-20 17:07:10
-2025-11-20 17:07:10
-2025-11-20 17:07:10
-2025-11-20 17:07:10
-2025-11-20 17:07:10
-2025-11-20 17:07:10
-2025-11-20 17:07:10
-2025-11-20 17:07:10
-2025-11-20 17:07:10
-2025-11-20 17:07:10
-2025-11-20 17:07:10
-2025-11-20 17:07:10
-2025-11-20 17:07:10
-2025-11-20 17:07:10
-2025-11-20 17:07:10
-2025-11-20 17:07:10
-2025-11-20 17:07:10
-2025-11-20 17:07:10
-2025-11-20 17:07:10
-2025-11-20 17:07:10
-2025-11-20 17:07:10
-2025-11-20 17:07:10
-2025-11-20 17:07:10
-2025-11-20 17:07:10
-2025-11-20 17:07:10
-2025-11-20 17:07:10
-2025-11-20 17:07:10
-2025-11-20 17:07:10
-2025-11-20 17:07:10
-2025-11-20 17:07:10
-2025-11-20 17:07:10
-2025-11-20 17:07:10
-2025-11-20 17:07:10
-2025-11-20 17:07:10
-2025-11-20 17:07:11
-2025-11-20 17:07:11
-2025-11-20 17:07:11
-2025-11-20 17:07:11
-2025-11-20 17:07:11
-2025-11-20 17:07:11
-2025-11-20 17:07:11
-2025-11-20 17:07:11
-2025-11-20 17:07:11
-2025-11-20 17:07:11
-2025-11-20 17:07:11
-2025-11-20 17:07:11
-2025-11-20 17:07:11
-2025-11-20 17:07:11
-2025-11-20 17:07:11
-2025-11-20 17:07:11
-2025-11-20 17:07:11
-2025-11-20 17:07:11
-2025-11-20 17:07:11
-2025-11-20 17:07:11
-2025-11-20 17:07:11
-2025-11-20 17:07:11
-2025-11-20 17:07:11
-2025-11-20 17:07:11
-2025-11-20 17:07:11
-2025-11-20 17:07:11
-2025-11-20 17:07:11
-2025-11-20 17:07:11
-2025-11-20 17:07:11
-2025-11-20 17:07:11
-2025-11-20 17:07:11
-2025-11-20 17:07:11
-2025-11-20 17:07:11
-2025-11-20 17:07:11
-2025-11-20 17:07:11
-2025-11-20 17:07:11
-2025-11-20 17:07:11
-2025-11-20 17:07:11
-2025-11-20 17:07:11
-2025-11-20 17:07:11
-2025-11-20 17:07:11
-2025-11-20 17:07:11
-2025-11-20 17:07:12
-2025-11-20 17:07:12
-2025-11-20 17:07:12
-2025-11-20 17:07:12
-2025-11-20 17:07:12
-2025-11-20 17:07:12
-2025-11-20 17:07:12
-2025-11-20 17:07:12
-2025-11-20 17:07:12
-2025-11-20 17:07:12
-2025-11-20 17:07:12
-2025-11-20 17:07:12
-2025-11-20 17:07:12
-2025-11-20 17:07:12
-2025-11-20 17:07:12
-2025-11-20 17:07:12
-2025-11-20 17:07:12
-2025-11-20 17:07:12
-2025-11-20 17:07:12
-2025-11-20 17:07:12
-2025-11-20 17:07:12
-2025-11-20 17:07:12
-2025-11-20 17:07:12
-2025-11-20 17:07:12
-2025-11-20 17:07:12
-2025-11-20 17:07:12
-2025-11-20 17:07:12
-2025-11-20 17:07:12
-2025-11-20 17:07:12
-2025-11-20 17:07:12
-2025-11-20 17:07:12
-2025-11-20 17:07:12
-2025-11-20 17:07:12
-2025-11-20 17:07:12
-2025-11-20 17:07:12
-2025-11-20 17:07:12
-2025-11-20 17:07:12
-2025-11-20 17:07:12
-2025-11-20 17:07:13
-2025-11-20 17:07:13
-2025-11-20 17:07:13
-2025-11-20 17:07:13
-2025-11-20 17:07:13
-2025-11-20 17:07:13
-2025-11-20 17:07:13
-2025-11-20 17:07:13
-2025-11-20 17:07:13
-2025-11-20 17:07:13
-2025-11-20 17:07:13
-2025-11-20 17:07:13
-2025-11-20 17:07:13
-2025-11-20 17:07:13
-2025-11-20 17:07:13
-2025-11-20 17:07:13
-2025-11-20 17:07:13
-2025-11-20 17:07:13
-2025-11-20 17:07:13
-2025-11-20 17:07:13
-2025-11-20 17:07:13
-2025-11-20 17:07:13
-2025-11-20 17:07:13
-2025-11-20 17:07:13
-2025-11-20 17:07:13
-2025-11-20 17:07:13
-2025-11-20 17:07:13
-2025-11-20 17:07:13
-2025-11-20 17:07:13
-2025-11-20 17:07:13
-2025-11-20 17:07:13
-2025-11-20 17:07:13
-2025-11-20 17:07:13
-2025-11-20 17:07:13
-2025-11-20 17:07:13
-2025-11-20 17:07:13
-2025-11-20 17:07:13
-2025-11-20 17:07:13
-2025-11-20 17:07:13
-2025-11-20 17:07:13
-2025-11-20 17:07:13
-2025-11-20 17:07:13
-2025-11-20 17:07:14
-2025-11-20 17:07:14
-2025-11-20 17:07:14
-2025-11-20 17:07:14
-2025-11-20 17:07:14
-2025-11-20 17:07:14
-2025-11-20 17:07:14
-2025-11-20 17:07:14
-2025-11-20 17:07:14
-2025-11-20 17:07:14
-2025-11-20 17:07:14
-2025-11-20 17:07:14
-2025-11-20 17:07:14
-2025-11-20 17:07:14
-2025-11-20 17:07:14
-2025-11-20 17:07:14
-2025-11-20 17:07:14
-2025-11-20 17:07:14
-2025-11-20 17:07:14
-2025-11-20 17:07:14
-2025-11-20 17:07:14
-2025-11-20 17:07:14
-2025-11-20 17:07:14
-2025-11-20 17:07:14
-2025-11-20 17:07:14
-2025-11-20 17:07:14
-2025-11-20 17:07:14
-2025-11-20 17:07:14
-2025-11-20 17:07:14
-2025-11-20 17:07:14
-2025-11-20 17:07:14
-2025-11-20 17:07:14
-2025-11-20 17:07:14
-2025-11-20 17:07:14
-2025-11-20 17:07:14
-2025-11-20 17:07:14
-2025-11-20 17:07:14
-2025-11-20 17:07:14
-2025-11-20 17:07:14
-2025-11-20 17:07:14
-2025-11-20 17:07:15
-2025-11-20 17:07:15
-2025-11-20 17:07:15
-2025-11-20 17:07:15
-2025-11-20 17:07:15
-2025-11-20 17:07:15
-2025-11-20 17:07:15
-2025-11-20 17:07:15
-2025-11-20 17:07:15
-2025-11-20 17:07:15
-2025-11-20 17:07:15
-2025-11-20 17:07:15
-2025-11-20 17:07:15
-2025-11-20 17:07:15
-2025-11-20 17:07:15
-2025-11-20 17:07:15
-2025-11-20 17:07:15
-2025-11-20 17:07:15
-2025-11-20 17:07:15
-2025-11-20 17:07:15
-2025-11-20 17:07:15
-2025-11-20 17:07:15
-2025-11-20 17:07:15
-2025-11-20 17:07:15
-2025-11-20 17:07:15
-2025-11-20 17:07:15
-2025-11-20 17:07:15
-2025-11-20 17:07:15
-2025-11-20 17:07:15
-2025-11-20 17:07:15
-2025-11-20 17:07:15
-2025-11-20 17:07:15
-2025-11-20 17:07:15
-2025-11-20 17:07:15
-2025-11-20 17:07:15
-2025-11-20 17:07:15
-2025-11-20 17:07:15
-2025-11-20 17:07:15
-2025-11-20 17:07:16
-2025-11-20 17:07:16
-2025-11-20 17:07:16
-2025-11-20 17:07:16
-2025-11-20 17:07:16
-2025-11-20 17:07:16
-2025-11-20 17:07:16
-2025-11-20 17:07:16
-2025-11-20 17:07:16
-2025-11-20 17:07:16
-2025-11-20 17:07:16
-2025-11-20 17:07:16
-2025-11-20 17:07:16
-2025-11-20 17:07:16
-2025-11-20 17:07:16
-2025-11-20 17:07:16
-2025-11-20 17:07:16
-2025-11-20 17:07:16
-2025-11-20 17:07:16
-2025-11-20 17:07:16
-2025-11-20 17:07:16
-2025-11-20 17:07:16
-2025-11-20 17:07:16
-2025-11-20 17:07:16
-2025-11-20 17:07:16
-2025-11-20 17:07:16
-2025-11-20 17:07:16
-2025-11-20 17:07:16
-2025-11-20 17:07:16
-2025-11-20 17:07:16
-2025-11-20 17:07:16
-2025-11-20 17:07:16
-2025-11-20 17:07:16
-2025-11-20 17:07:16
-2025-11-20 17:07:16
-2025-11-20 17:07:16
-2025-11-20 17:07:16
-2025-11-20 17:07:16
-2025-11-20 17:07:16
-2025-11-20 17:07:16
-2025-11-20 17:07:16
-2025-11-20 17:07:16
-2025-11-20 17:07:17
-2025-11-20 17:07:17
-2025-11-20 17:07:17
-2025-11-20 17:07:17
-2025-11-20 17:07:17
-2025-11-20 17:07:17
-2025-11-20 17:07:17
-2025-11-20 17:07:17
-2025-11-20 17:07:17
-2025-11-20 17:07:17
-2025-11-20 17:07:17
-2025-11-20 17:07:17
-2025-11-20 17:07:17
-2025-11-20 17:07:17
-2025-11-20 17:07:17
-2025-11-20 17:07:17
-2025-11-20 17:07:17
-2025-11-20 17:07:17
-2025-11-20 17:07:17
-2025-11-20 17:07:17
-2025-11-20 17:07:17
-2025-11-20 17:07:17
-2025-11-20 17:07:17
-2025-11-20 17:07:17
-2025-11-20 17:07:17
-2025-11-20 17:07:17
-2025-11-20 17:07:17
-2025-11-20 17:07:17
-2025-11-20 17:07:17
-2025-11-20 17:07:17
-2025-11-20 17:07:17
-2025-11-20 17:07:17
-2025-11-20 17:07:17
-2025-11-20 17:07:17
-2025-11-20 17:07:17
-2025-11-20 17:07:17
-2025-11-20 17:07:17
-2025-11-20 17:07:17
-2025-11-20 17:07:17
-2025-11-20 17:07:17
-2025-11-20 17:07:18
-2025-11-20 17:07:18
-2025-11-20 17:07:18
-2025-11-20 17:07:18
-2025-11-20 17:07:18
-2025-11-20 17:07:18
-2025-11-20 17:07:18
-2025-11-20 17:07:18
-2025-11-20 17:07:18
-2025-11-20 17:07:18
-2025-11-20 17:07:18
-2025-11-20 17:07:18
-2025-11-20 17:07:18
-2025-11-20 17:07:18
-2025-11-20 17:07:18
-2025-11-20 17:07:18
-2025-11-20 17:07:18
-2025-11-20 17:07:18
-2025-11-20 17:07:18
-2025-11-20 17:07:18
-2025-11-20 17:07:18
-2025-11-20 17:07:18
-2025-11-20 17:07:18
-2025-11-20 17:07:18
-2025-11-20 17:07:18
-2025-11-20 17:07:18
-2025-11-20 17:07:18
-2025-11-20 17:07:18
-2025-11-20 17:07:18
-2025-11-20 17:07:18
-2025-11-20 17:07:18
-2025-11-20 17:07:18
-2025-11-20 17:07:18
-2025-11-20 17:07:18
-2025-11-20 17:07:18
-2025-11-20 17:07:18
-2025-11-20 17:07:18
-2025-11-20 17:07:18
-2025-11-20 17:07:18
-2025-11-20 17:07:19
-2025-11-20 17:07:19
-2025-11-20 17:07:19
-2025-11-20 17:07:19
-2025-11-20 17:07:19
-2025-11-20 17:07:19
-2025-11-20 17:07:19
-2025-11-20 17:07:19
-2025-11-20 17:07:19
-2025-11-20 17:07:19
-2025-11-20 17:07:19
-2025-11-20 17:07:19
-2025-11-20 17:07:19
-2025-11-20 17:07:19
-2025-11-20 17:07:19
-2025-11-20 17:07:19
-2025-11-20 17:07:19
-2025-11-20 17:07:19
-2025-11-20 17:07:19
-2025-11-20 17:07:19
-2025-11-20 17:07:19
-2025-11-20 17:07:19
-2025-11-20 17:07:19
-2025-11-20 17:07:19
-2025-11-20 17:07:19
-2025-11-20 17:07:19
-2025-11-20 17:07:19
-2025-11-20 17:07:19
-2025-11-20 17:07:19
-2025-11-20 17:07:19
-2025-11-20 17:07:19
-2025-11-20 17:07:19
-2025-11-20 17:07:19
-2025-11-20 17:07:19
-2025-11-20 17:07:19
-2025-11-20 17:07:19
-2025-11-20 17:07:19
-2025-11-20 17:07:19
-2025-11-20 17:07:20
-2025-11-20 17:07:20
-2025-11-20 17:07:20
-2025-11-20 17:07:20
-2025-11-20 17:07:20
-2025-11-20 17:07:20
-2025-11-20 17:07:20
-2025-11-20 17:07:20
-2025-11-20 17:07:20
-2025-11-20 17:07:20
-2025-11-20 17:07:20
-2025-11-20 17:07:20
-2025-11-20 17:07:20
-2025-11-20 17:07:20
-2025-11-20 17:07:20
-2025-11-20 17:07:20
-2025-11-20 17:07:20
-2025-11-20 17:07:20
-2025-11-20 17:07:20
-2025-11-20 17:07:20
-2025-11-20 17:07:20
-2025-11-20 17:07:20
-2025-11-20 17:07:20
-2025-11-20 17:07:20
-2025-11-20 17:07:20
-2025-11-20 17:07:20
-2025-11-20 17:07:20
-2025-11-20 17:07:20
-2025-11-20 17:07:20
-2025-11-20 17:07:20
-2025-11-20 17:07:20
-2025-11-20 17:07:20
-2025-11-20 17:07:20
-2025-11-20 17:07:20
-2025-11-20 17:07:20
-2025-11-20 17:07:20
-2025-11-20 17:07:20
-2025-11-20 17:07:20
-2025-11-20 17:07:20
-2025-11-20 17:07:21
-2025-11-20 17:07:21
-2025-11-20 17:07:21
-2025-11-20 17:07:21
-2025-11-20 17:07:21
-2025-11-20 17:07:21
-2025-11-20 17:07:21
-2025-11-20 17:07:21
-2025-11-20 17:07:21
-2025-11-20 17:07:21
-2025-11-20 17:07:21
-2025-11-20 17:07:21
-2025-11-20 17:07:21
-2025-11-20 17:07:21
-2025-11-20 17:07:21
-2025-11-20 17:07:21
-2025-11-20 17:07:21
-2025-11-20 17:07:21
-2025-11-20 17:07:21
-2025-11-20 17:07:21
-2025-11-20 17:07:21
-2025-11-20 17:07:21
-2025-11-20 17:07:21
-2025-11-20 17:07:21
-2025-11-20 17:07:21
-2025-11-20 17:07:21
-2025-11-20 17:07:21
-2025-11-20 17:07:21
-2025-11-20 17:07:21
-2025-11-20 17:07:21
-2025-11-20 17:07:21
-2025-11-20 17:07:21
-2025-11-20 17:07:21
-2025-11-20 17:07:21
-2025-11-20 17:07:21
-2025-11-20 17:07:21
-2025-11-20 17:07:21
-2025-11-20 17:07:21
-2025-11-20 17:07:21
-2025-11-20 17:07:21
-2025-11-20 17:07:22
-2025-11-20 17:07:22
-2025-11-20 17:07:22
-2025-11-20 17:07:22
-2025-11-20 17:07:22
-2025-11-20 17:07:22
-2025-11-20 17:07:22
-2025-11-20 17:07:22
-2025-11-20 17:07:22
-2025-11-20 17:07:22
-2025-11-20 17:07:22
-2025-11-20 17:07:22
-2025-11-20 17:07:22
-2025-11-20 17:07:22
-2025-11-20 17:07:22
-2025-11-20 17:07:22
-2025-11-20 17:07:22
-2025-11-20 17:07:22
-2025-11-20 17:07:22
-2025-11-20 17:07:22
-2025-11-20 17:07:22
-2025-11-20 17:07:22
-2025-11-20 17:07:22
-2025-11-20 17:07:22
-2025-11-20 17:07:22
-2025-11-20 17:07:22
-2025-11-20 17:07:22
-2025-11-20 17:07:22
-2025-11-20 17:07:22
-2025-11-20 17:07:22
-2025-11-20 17:07:22
-2025-11-20 17:07:22
-2025-11-20 17:07:22
-2025-11-20 17:07:22
-2025-11-20 17:07:22
-2025-11-20 17:07:22
-2025-11-20 17:07:22
-2025-11-20 17:07:22
-2025-11-20 17:07:23
-2025-11-20 17:07:23
-2025-11-20 17:07:23
-2025-11-20 17:07:23
-2025-11-20 17:07:23
-2025-11-20 17:07:23
-2025-11-20 17:07:23
-2025-11-20 17:07:23
-2025-11-20 17:07:23
-2025-11-20 17:07:23
-2025-11-20 17:07:23
-2025-11-20 17:07:23
-2025-11-20 17:07:23
-2025-11-20 17:07:23
-2025-11-20 17:07:23
-2025-11-20 17:07:23
-2025-11-20 17:07:23
-2025-11-20 17:07:23
-2025-11-20 17:07:23
-2025-11-20 17:07:23
-2025-11-20 17:07:23
-2025-11-20 17:07:23
-2025-11-20 17:07:23
-2025-11-20 17:07:23
-2025-11-20 17:07:23
-2025-11-20 17:07:23
-2025-11-20 17:07:23
-2025-11-20 17:07:23
-2025-11-20 17:07:23
-2025-11-20 17:07:23
-2025-11-20 17:07:23
-2025-11-20 17:07:23
-2025-11-20 17:07:23
-2025-11-20 17:07:23
-2025-11-20 17:07:23
-2025-11-20 17:07:23
-2025-11-20 17:07:23
-2025-11-20 17:07:23
-2025-11-20 17:07:23
-2025-11-20 17:07:23
-2025-11-20 17:07:24
-2025-11-20 17:07:24
-2025-11-20 17:07:24
-2025-11-20 17:07:24
-2025-11-20 17:07:24
-2025-11-20 17:07:24
-2025-11-20 17:07:24
-2025-11-20 17:07:24
-2025-11-20 17:07:24
-2025-11-20 17:07:24
-2025-11-20 17:07:24
-2025-11-20 17:07:24
-2025-11-20 17:07:24
-2025-11-20 17:07:24
-2025-11-20 17:07:24
-2025-11-20 17:07:24
-2025-11-20 17:07:24
-2025-11-20 17:07:24
-2025-11-20 17:07:24
-2025-11-20 17:07:24
-2025-11-20 17:07:24
-2025-11-20 17:07:24
-2025-11-20 17:07:24
-2025-11-20 17:07:24
-2025-11-20 17:07:24
-2025-11-20 17:07:24
-2025-11-20 17:07:24
-2025-11-20 17:07:24
-2025-11-20 17:07:24
-2025-11-20 17:07:24
-2025-11-20 17:07:24
-2025-11-20 17:07:24
-2025-11-20 17:07:24
-2025-11-20 17:07:24
-2025-11-20 17:07:24
-2025-11-20 17:07:24
-2025-11-20 17:07:24
-2025-11-20 17:07:24
-2025-11-20 17:07:24
-2025-11-20 17:07:25
-2025-11-20 17:07:25
-2025-11-20 17:07:25
-2025-11-20 17:07:25
-2025-11-20 17:07:25
-2025-11-20 17:07:25
-2025-11-20 17:07:25
-2025-11-20 17:07:25
-2025-11-20 17:07:25
-2025-11-20 17:07:25
-2025-11-20 17:07:25
-2025-11-20 17:07:25
-2025-11-20 17:07:25
-2025-11-20 17:07:25
-2025-11-20 17:07:25
-2025-11-20 17:07:25
-2025-11-20 17:07:25
-2025-11-20 17:07:25
-2025-11-20 17:07:25
-2025-11-20 17:07:25
-2025-11-20 17:07:25
-2025-11-20 17:07:25
-2025-11-20 17:07:25
-2025-11-20 17:07:25
-2025-11-20 17:07:25
-2025-11-20 17:07:25
-2025-11-20 17:07:25
-2025-11-20 17:07:25
-2025-11-20 17:07:25
-2025-11-20 17:07:25
-2025-11-20 17:07:25
-2025-11-20 17:07:25
-2025-11-20 17:07:25
-2025-11-20 17:07:25
-2025-11-20 17:07:25
-2025-11-20 17:07:25
-2025-11-20 17:07:25
-2025-11-20 17:07:25
-2025-11-20 17:07:25
-2025-11-20 17:07:25
-2025-11-20 17:07:25
-2025-11-20 17:07:26
-2025-11-20 17:07:26
-2025-11-20 17:07:26
-2025-11-20 17:07:26
-2025-11-20 17:07:26
-2025-11-20 17:07:26
-2025-11-20 17:07:26
-2025-11-20 17:07:26
-2025-11-20 17:07:26
-2025-11-20 17:07:26
-2025-11-20 17:07:26
-2025-11-20 17:07:26
-2025-11-20 17:07:26
-2025-11-20 17:07:26
-2025-11-20 17:07:26
-2025-11-20 17:07:26
-2025-11-20 17:07:26
-2025-11-20 17:07:26
-2025-11-20 17:07:26
-2025-11-20 17:07:26
-2025-11-20 17:07:26
-2025-11-20 17:07:26
-2025-11-20 17:07:26
-2025-11-20 17:07:26
-2025-11-20 17:07:26
-2025-11-20 17:07:26
-2025-11-20 17:07:26
-2025-11-20 17:07:26
-2025-11-20 17:07:26
-2025-11-20 17:07:26
-2025-11-20 17:07:26
-2025-11-20 17:07:26
-2025-11-20 17:07:26
-2025-11-20 17:07:26
-2025-11-20 17:07:26
-2025-11-20 17:07:26
-2025-11-20 17:07:26
-2025-11-20 17:07:26
-2025-11-20 17:07:26
-2025-11-20 17:07:26
-2025-11-20 17:07:26
-2025-11-20 17:07:27
-2025-11-20 17:07:27
-2025-11-20 17:07:27
-2025-11-20 17:07:27
-2025-11-20 17:07:27
-2025-11-20 17:07:27
-2025-11-20 17:07:27
-2025-11-20 17:07:27
-2025-11-20 17:07:27
-2025-11-20 17:07:27
-2025-11-20 17:07:27
-2025-11-20 17:07:27
-2025-11-20 17:07:27
-2025-11-20 17:07:27
-2025-11-20 17:07:27
-2025-11-20 17:07:27
-2025-11-20 17:07:27
-2025-11-20 17:07:27
-2025-11-20 17:07:27
-2025-11-20 17:07:27
-2025-11-20 17:07:27
-2025-11-20 17:07:27
-2025-11-20 17:07:27
-2025-11-20 17:07:27
-2025-11-20 17:07:27
-2025-11-20 17:07:27
-2025-11-20 17:07:27
-2025-11-20 17:07:27
-2025-11-20 17:07:27
-2025-11-20 17:07:27
-2025-11-20 17:07:27
-2025-11-20 17:07:27
-2025-11-20 17:07:27
-2025-11-20 17:07:27
-2025-11-20 17:07:27
-2025-11-20 17:07:27
-2025-11-20 17:07:27
-2025-11-20 17:07:27
-2025-11-20 17:07:27
-2025-11-20 17:07:28
-2025-11-20 17:07:28
-2025-11-20 17:07:28
-2025-11-20 17:07:28
-2025-11-20 17:07:28
-2025-11-20 17:07:28
-2025-11-20 17:07:28
-2025-11-20 17:07:28
-2025-11-20 17:07:28
-2025-11-20 17:07:28
-2025-11-20 17:07:28
-2025-11-20 17:07:28
-2025-11-20 17:07:28
-2025-11-20 17:07:28
-2025-11-20 17:07:28
-2025-11-20 17:07:28
-2025-11-20 17:07:28
-2025-11-20 17:07:28
-2025-11-20 17:07:28
-2025-11-20 17:07:28
-2025-11-20 17:07:28
-2025-11-20 17:07:28
-2025-11-20 17:07:28
-2025-11-20 17:07:28
-2025-11-20 17:07:28
-2025-11-20 17:07:28
-2025-11-20 17:07:28
-2025-11-20 17:07:28
-2025-11-20 17:07:28
-2025-11-20 17:07:28
-2025-11-20 17:07:28
-2025-11-20 17:07:28
-2025-11-20 17:07:28
-2025-11-20 17:07:28
-2025-11-20 17:07:28
-2025-11-20 17:07:28
-2025-11-20 17:07:28
-2025-11-20 17:07:28
-2025-11-20 17:07:28
-2025-11-20 17:07:28
-2025-11-20 17:07:29
-2025-11-20 17:07:29
-2025-11-20 17:07:29
-2025-11-20 17:07:29
-2025-11-20 17:07:29
-2025-11-20 17:07:29
-2025-11-20 17:07:29
-2025-11-20 17:07:29
-2025-11-20 17:07:29
-2025-11-20 17:07:29
-2025-11-20 17:07:29
-2025-11-20 17:07:29
-2025-11-20 17:07:29
-2025-11-20 17:07:29
-2025-11-20 17:07:29
-2025-11-20 17:07:29
-2025-11-20 17:07:29
-2025-11-20 17:07:29
-2025-11-20 17:07:29
-2025-11-20 17:07:29
-2025-11-20 17:07:29
-2025-11-20 17:07:29
-2025-11-20 17:07:29
-2025-11-20 17:07:29
-2025-11-20 17:07:29
-2025-11-20 17:07:29
-2025-11-20 17:07:29
-2025-11-20 17:07:29
-2025-11-20 17:07:29
-2025-11-20 17:07:29
-2025-11-20 17:07:29
-2025-11-20 17:07:29
-2025-11-20 17:07:29
-2025-11-20 17:07:29
-2025-11-20 17:07:29
-2025-11-20 17:07:29
-2025-11-20 17:07:29
-2025-11-20 17:07:29
-2025-11-20 17:07:29
-2025-11-20 17:07:30
-2025-11-20 17:07:30
-2025-11-20 17:07:30
-2025-11-20 17:07:30
-2025-11-20 17:07:30
-2025-11-20 17:07:30
-2025-11-20 17:07:30
-2025-11-20 17:07:30
-2025-11-20 17:07:30
-2025-11-20 17:07:30
-2025-11-20 17:07:30
-2025-11-20 17:07:30
-2025-11-20 17:07:30
-2025-11-20 17:07:30
-2025-11-20 17:07:30
-2025-11-20 17:07:30
-2025-11-20 17:07:30
-2025-11-20 17:07:30
-2025-11-20 17:07:30
-2025-11-20 17:07:30
-2025-11-20 17:07:30
-2025-11-20 17:07:30
-2025-11-20 17:07:30
-2025-11-20 17:07:30
-2025-11-20 17:07:30
-2025-11-20 17:07:30
-2025-11-20 17:07:30
-2025-11-20 17:07:30
-2025-11-20 17:07:30
-2025-11-20 17:07:30
-2025-11-20 17:07:30
-2025-11-20 17:07:30
-2025-11-20 17:07:30
-2025-11-20 17:07:30
-2025-11-20 17:07:30
-2025-11-20 17:07:30
-2025-11-20 17:07:30
-2025-11-20 17:07:30
-2025-11-20 17:07:31
-2025-11-20 17:07:31
-2025-11-20 17:07:31
-2025-11-20 17:07:31
-2025-11-20 17:07:31
-2025-11-20 17:07:31
-2025-11-20 17:07:31
-2025-11-20 17:07:31
-2025-11-20 17:07:31
-2025-11-20 17:07:31
-2025-11-20 17:07:31
-2025-11-20 17:07:31
-2025-11-20 17:07:31
-2025-11-20 17:07:31
-2025-11-20 17:07:31
-2025-11-20 17:07:31
-2025-11-20 17:07:31
-2025-11-20 17:07:31
-2025-11-20 17:07:31
-2025-11-20 17:07:31
-2025-11-20 17:07:31
-2025-11-20 17:07:31
-2025-11-20 17:07:31
-2025-11-20 17:07:31
-2025-11-20 17:07:31
-2025-11-20 17:07:31
-2025-11-20 17:07:31
-2025-11-20 17:07:31
-2025-11-20 17:07:31
-2025-11-20 17:07:31
-2025-11-20 17:07:31
-2025-11-20 17:07:31
-2025-11-20 17:07:31
-2025-11-20 17:07:31
-2025-11-20 17:07:31
-2025-11-20 17:07:31
-2025-11-20 17:07:31
-2025-11-20 17:07:31
-2025-11-20 17:07:31
-2025-11-20 17:07:31
-2025-11-20 17:07:32
-2025-11-20 17:07:32
-2025-11-20 17:07:32
-2025-11-20 17:07:32
-2025-11-20 17:07:32
-2025-11-20 17:07:32
-2025-11-20 17:07:32
-2025-11-20 17:07:32
-2025-11-20 17:07:32
-2025-11-20 17:07:32
-2025-11-20 17:07:32
-2025-11-20 17:07:32
-2025-11-20 17:07:32
-2025-11-20 17:07:32
-2025-11-20 17:07:32
-2025-11-20 17:07:32
-2025-11-20 17:07:32
-2025-11-20 17:07:32
-2025-11-20 17:07:32
-2025-11-20 17:07:32
-2025-11-20 17:07:32
-2025-11-20 17:07:32
-2025-11-20 17:07:32
-2025-11-20 17:07:32
-2025-11-20 17:07:32
-2025-11-20 17:07:32
-2025-11-20 17:07:32
-2025-11-20 17:07:32
-2025-11-20 17:07:32
-2025-11-20 17:07:32
-2025-11-20 17:07:32
-2025-11-20 17:07:32
-2025-11-20 17:07:32
-2025-11-20 17:07:32
-2025-11-20 17:07:32
-2025-11-20 17:07:32
-2025-11-20 17:07:32
-2025-11-20 17:07:32
-2025-11-20 17:07:32
-2025-11-20 17:07:33
-2025-11-20 17:07:33
-2025-11-20 17:07:33
-2025-11-20 17:07:33
-2025-11-20 17:07:33
-2025-11-20 17:07:33
-2025-11-20 17:07:33
-2025-11-20 17:07:33
-2025-11-20 17:07:33
-2025-11-20 17:07:33
-2025-11-20 17:07:33
-2025-11-20 17:07:33
-2025-11-20 17:07:33
-2025-11-20 17:07:33
-2025-11-20 17:07:33
-2025-11-20 17:07:33
-2025-11-20 17:07:33
-2025-11-20 17:07:33
-2025-11-20 17:07:33
-2025-11-20 17:07:33
-2025-11-20 17:07:33
-2025-11-20 17:07:33
-2025-11-20 17:07:33
-2025-11-20 17:07:33
-2025-11-20 17:07:33
-2025-11-20 17:07:33
-2025-11-20 17:07:33
-2025-11-20 17:07:33
-2025-11-20 17:07:33
-2025-11-20 17:07:33
-2025-11-20 17:07:33
-2025-11-20 17:07:33
-2025-11-20 17:07:33
-2025-11-20 17:07:33
-2025-11-20 17:07:33
-2025-11-20 17:07:33
-2025-11-20 17:07:33
-2025-11-20 17:07:33
-2025-11-20 17:07:34
-2025-11-20 17:07:34
-2025-11-20 17:07:34
-2025-11-20 17:07:34
-2025-11-20 17:07:34
-2025-11-20 17:07:34
-2025-11-20 17:07:34
-2025-11-20 17:07:34
-2025-11-20 17:07:34
-2025-11-20 17:07:34
-2025-11-20 17:07:34
-2025-11-20 17:07:34
-2025-11-20 17:07:34
-2025-11-20 17:07:34
-2025-11-20 17:07:34
-2025-11-20 17:07:34
-2025-11-20 17:07:34
-2025-11-20 17:07:34
-2025-11-20 17:07:34
-2025-11-20 17:07:34
-2025-11-20 17:07:34
-2025-11-20 17:07:34
-2025-11-20 17:07:34
-2025-11-20 17:07:34
-2025-11-20 17:07:34
-2025-11-20 17:07:34
-2025-11-20 17:07:34
-2025-11-20 17:07:34
-2025-11-20 17:07:34
-2025-11-20 17:07:34
-2025-11-20 17:07:34
-2025-11-20 17:07:34
-2025-11-20 17:07:34
-2025-11-20 17:07:34
-2025-11-20 17:07:34
-2025-11-20 17:07:34
-2025-11-20 17:07:34
-2025-11-20 17:07:34
-2025-11-20 17:07:35
-2025-11-20 17:07:35
-2025-11-20 17:07:35
-2025-11-20 17:07:35
-2025-11-20 17:07:35
-2025-11-20 17:07:35
-2025-11-20 17:07:35
-2025-11-20 17:07:35
-2025-11-20 17:07:35
-2025-11-20 17:07:35
-2025-11-20 17:07:35
-2025-11-20 17:07:35
-2025-11-20 17:07:35
-2025-11-20 17:07:35
-2025-11-20 17:07:35
-2025-11-20 17:07:35
-2025-11-20 17:07:35
-2025-11-20 17:07:35
-2025-11-20 17:07:35
-2025-11-20 17:07:35
-2025-11-20 17:07:35
-2025-11-20 17:07:35
-2025-11-20 17:07:35
-2025-11-20 17:07:35
-2025-11-20 17:07:35
-2025-11-20 17:07:35
-2025-11-20 17:07:35
-2025-11-20 17:07:35
-2025-11-20 17:07:35
-2025-11-20 17:07:35
-2025-11-20 17:07:35
-2025-11-20 17:07:35
-2025-11-20 17:07:35
-2025-11-20 17:07:35
-2025-11-20 17:07:35
-2025-11-20 17:07:35
-2025-11-20 17:07:35
-2025-11-20 17:07:35
-2025-11-20 17:07:36
-2025-11-20 17:07:36
-2025-11-20 17:07:36
-2025-11-20 17:07:36
-2025-11-20 17:07:36
-2025-11-20 17:07:36
-2025-11-20 17:07:36
-2025-11-20 17:07:36
-2025-11-20 17:07:36
-2025-11-20 17:07:36
-2025-11-20 17:07:36
-2025-11-20 17:07:36
-2025-11-20 17:07:36
-2025-11-20 17:07:36
-2025-11-20 17:07:36
-2025-11-20 17:07:36
-2025-11-20 17:07:36
-2025-11-20 17:07:36
-2025-11-20 17:07:36
-2025-11-20 17:07:36
-2025-11-20 17:07:36
-2025-11-20 17:07:36
-2025-11-20 17:07:36
-2025-11-20 17:07:36
-2025-11-20 17:07:36
-2025-11-20 17:07:36
-2025-11-20 17:07:36
-2025-11-20 17:07:36
-2025-11-20 17:07:36
-2025-11-20 17:07:36
-2025-11-20 17:07:36
-2025-11-20 17:07:36
-2025-11-20 17:07:36
-2025-11-20 17:07:36
-2025-11-20 17:07:36
-2025-11-20 17:07:36
-2025-11-20 17:07:36
-2025-11-20 17:07:36
-2025-11-20 17:07:37
-2025-11-20 17:07:37
-2025-11-20 17:07:37
-2025-11-20 17:07:37
-2025-11-20 17:07:37
-2025-11-20 17:07:37
-2025-11-20 17:07:37
-2025-11-20 17:07:37
-2025-11-20 17:07:37
-2025-11-20 17:07:37
-2025-11-20 17:07:37
-2025-11-20 17:07:37
-2025-11-20 17:07:37
-2025-11-20 17:07:37
-2025-11-20 17:07:37
-2025-11-20 17:07:37
-2025-11-20 17:07:37
-2025-11-20 17:07:37
-2025-11-20 17:07:37
-2025-11-20 17:07:37
-2025-11-20 17:07:37
-2025-11-20 17:07:37
-2025-11-20 17:07:37
-2025-11-20 17:07:37
-2025-11-20 17:07:37
-2025-11-20 17:07:37
-2025-11-20 17:07:37
-2025-11-20 17:07:37
-2025-11-20 17:07:37
-2025-11-20 17:07:37
-2025-11-20 17:07:37
-2025-11-20 17:07:37
-2025-11-20 17:07:37
-2025-11-20 17:07:37
-2025-11-20 17:07:37
-2025-11-20 17:07:37
-2025-11-20 17:07:37
-2025-11-20 17:07:38
-2025-11-20 17:07:38
-2025-11-20 17:07:38
-2025-11-20 17:07:38
-2025-11-20 17:07:38
-2025-11-20 17:07:38
-2025-11-20 17:07:38
-2025-11-20 17:07:38
-2025-11-20 17:07:38
-2025-11-20 17:07:38
-2025-11-20 17:07:38
-2025-11-20 17:07:38
-2025-11-20 17:07:38
-2025-11-20 17:07:38
-2025-11-20 17:07:38
-2025-11-20 17:07:38
-2025-11-20 17:07:38
-2025-11-20 17:07:38
-2025-11-20 17:07:38
-2025-11-20 17:07:38
-2025-11-20 17:07:38
-2025-11-20 17:07:38
-2025-11-20 17:07:38
-2025-11-20 17:07:38
-2025-11-20 17:07:38
-2025-11-20 17:07:38
-2025-11-20 17:07:38
-2025-11-20 17:07:38
-2025-11-20 17:07:38
-2025-11-20 17:07:38
-2025-11-20 17:07:38
-2025-11-20 17:07:38
-2025-11-20 17:07:38
-2025-11-20 17:07:38
-2025-11-20 17:07:38
-2025-11-20 17:07:38
-2025-11-20 17:07:39
-2025-11-20 17:07:39
-2025-11-20 17:07:39
-2025-11-20 17:07:39
-2025-11-20 17:07:39
-2025-11-20 17:07:39
-2025-11-20 17:07:39
-2025-11-20 17:07:39
-2025-11-20 17:07:39
-2025-11-20 17:07:39
-2025-11-20 17:07:39
-2025-11-20 17:07:39
-2025-11-20 17:07:39
-2025-11-20 17:07:39
-2025-11-20 17:07:39
-2025-11-20 17:07:39
-2025-11-20 17:07:39
-2025-11-20 17:07:39
-2025-11-20 17:07:39
-2025-11-20 17:07:39
-2025-11-20 17:07:39
-2025-11-20 17:07:39
-2025-11-20 17:07:39
-2025-11-20 17:07:39
-2025-11-20 17:07:39
-2025-11-20 17:07:39
-2025-11-20 17:07:39
-2025-11-20 17:07:39
-2025-11-20 17:07:39
-2025-11-20 17:07:39
-2025-11-20 17:07:39
-2025-11-20 17:07:39
-2025-11-20 17:07:39
-2025-11-20 17:07:39
-2025-11-20 17:07:39
-2025-11-20 17:07:39
-2025-11-20 17:07:39
-2025-11-20 17:07:39
-2025-11-20 17:07:40
-2025-11-20 17:07:40
-2025-11-20 17:07:40
-2025-11-20 17:07:40
-2025-11-20 17:07:40
-2025-11-20 17:07:40
-2025-11-20 17:07:40
-2025-11-20 17:07:40
-2025-11-20 17:07:40
-2025-11-20 17:07:40
-2025-11-20 17:07:40
-2025-11-20 17:07:40
-2025-11-20 17:07:40
-2025-11-20 17:07:40
-2025-11-20 17:07:40
-2025-11-20 17:07:40
-2025-11-20 17:07:40
-2025-11-20 17:07:40
-2025-11-20 17:07:40
-2025-11-20 17:07:40
-2025-11-20 17:07:40
-2025-11-20 17:07:40
-2025-11-20 17:07:40
-2025-11-20 17:07:40
-2025-11-20 17:07:40
-2025-11-20 17:07:40
-2025-11-20 17:07:40
-2025-11-20 17:07:40
-2025-11-20 17:07:40
-2025-11-20 17:07:40
-2025-11-20 17:07:40
-2025-11-20 17:07:40
-2025-11-20 17:07:40
-2025-11-20 17:07:40
-2025-11-20 17:07:40
-2025-11-20 17:07:40
-2025-11-20 17:07:40
-2025-11-20 17:07:41
-2025-11-20 17:07:41
-2025-11-20 17:07:41
-2025-11-20 17:07:41
-2025-11-20 17:07:41
-2025-11-20 17:07:41
-2025-11-20 17:07:41
-2025-11-20 17:07:41
-2025-11-20 17:07:41
-2025-11-20 17:07:41
-2025-11-20 17:07:41
-2025-11-20 17:07:41
-2025-11-20 17:07:41
-2025-11-20 17:07:41
-2025-11-20 17:07:41
-2025-11-20 17:07:41
-2025-11-20 17:07:41
-2025-11-20 17:07:41
-2025-11-20 17:07:41
-2025-11-20 17:07:41
-2025-11-20 17:07:41
-2025-11-20 17:07:41
-2025-11-20 17:07:41
-2025-11-20 17:07:41
-2025-11-20 17:07:41
-2025-11-20 17:07:41
-2025-11-20 17:07:41
-2025-11-20 17:07:41
-2025-11-20 17:07:41
-2025-11-20 17:07:41
-2025-11-20 17:07:41
-2025-11-20 17:07:41
-2025-11-20 17:07:41
-2025-11-20 17:07:41
-2025-11-20 17:07:41
-2025-11-20 17:07:41
-2025-11-20 17:07:42
-2025-11-20 17:07:42
-2025-11-20 17:07:42
-2025-11-20 17:07:42
-2025-11-20 17:07:42
-2025-11-20 17:07:42
-2025-11-20 17:07:42
-2025-11-20 17:07:42
-2025-11-20 17:07:42
-2025-11-20 17:07:42
-2025-11-20 17:07:42
-2025-11-20 17:07:42
-2025-11-20 17:07:42
-2025-11-20 17:07:42
-2025-11-20 17:07:42
-2025-11-20 17:07:42
-2025-11-20 17:07:42
-2025-11-20 17:07:42
-2025-11-20 17:07:42
-2025-11-20 17:07:42
-2025-11-20 17:07:42
-2025-11-20 17:07:42
-2025-11-20 17:07:42
-2025-11-20 17:07:42
-2025-11-20 17:07:42
-2025-11-20 17:07:42
-2025-11-20 17:07:42
-2025-11-20 17:07:42
-2025-11-20 17:07:42
-2025-11-20 17:07:42
-2025-11-20 17:07:42
-2025-11-20 17:07:42
-2025-11-20 17:07:42
-2025-11-20 17:07:42
-2025-11-20 17:07:42
-2025-11-20 17:07:42
-2025-11-20 17:07:42
-2025-11-20 17:07:43
-2025-11-20 17:07:43
-2025-11-20 17:07:43
-2025-11-20 17:07:43
-2025-11-20 17:07:43
-2025-11-20 17:07:43
-2025-11-20 17:07:43
-2025-11-20 17:07:43
-2025-11-20 17:07:43
-2025-11-20 17:07:43
-2025-11-20 17:07:43
-2025-11-20 17:07:43
-2025-11-20 17:07:43
-2025-11-20 17:07:43
-2025-11-20 17:07:43
-2025-11-20 17:07:43
-2025-11-20 17:07:43
-2025-11-20 17:07:43
-2025-11-20 17:07:43
-2025-11-20 17:07:43
-2025-11-20 17:07:43
-2025-11-20 17:07:43
-2025-11-20 17:07:43
-2025-11-20 17:07:43
-2025-11-20 17:07:43
-2025-11-20 17:07:43
-2025-11-20 17:07:43
-2025-11-20 17:07:43
-2025-11-20 17:07:43
-2025-11-20 17:07:43
-2025-11-20 17:07:43
-2025-11-20 17:07:43
-2025-11-20 17:07:43
-2025-11-20 17:07:43
-2025-11-20 17:07:43
-2025-11-20 17:07:43
-2025-11-20 17:07:44
-2025-11-20 17:07:44
-2025-11-20 17:07:44
-2025-11-20 17:07:44
-2025-11-20 17:07:44
-2025-11-20 17:07:44
-2025-11-20 17:07:44
-2025-11-20 17:07:44
-2025-11-20 17:07:44
-2025-11-20 17:07:44
-2025-11-20 17:07:44
-2025-11-20 17:07:44
-2025-11-20 17:07:44
-2025-11-20 17:07:44
-2025-11-20 17:07:44
-2025-11-20 17:07:44
-2025-11-20 17:07:44
-2025-11-20 17:07:44
-2025-11-20 17:07:44
-2025-11-20 17:07:44
-2025-11-20 17:07:44
-2025-11-20 17:07:44
-2025-11-20 17:07:44
-2025-11-20 17:07:44
-2025-11-20 17:07:44
-2025-11-20 17:07:44
-2025-11-20 17:07:44
-2025-11-20 17:07:44
-2025-11-20 17:07:44
-2025-11-20 17:07:44
-2025-11-20 17:07:44
-2025-11-20 17:07:44
-2025-11-20 17:07:44
-2025-11-20 17:07:44
-2025-11-20 17:07:44
-2025-11-20 17:07:44
-2025-11-20 17:07:45
-2025-11-20 17:07:45
-2025-11-20 17:07:45
-2025-11-20 17:07:45
-2025-11-20 17:07:45
-2025-11-20 17:07:45
-2025-11-20 17:07:45
-2025-11-20 17:07:45
-2025-11-20 17:07:45
-2025-11-20 17:07:45
-2025-11-20 17:07:45
-2025-11-20 17:07:45
-2025-11-20 17:07:45
-2025-11-20 17:07:45
-2025-11-20 17:07:45
-2025-11-20 17:07:45
-2025-11-20 17:07:45
-2025-11-20 17:07:45
-2025-11-20 17:07:45
-2025-11-20 17:07:45
-2025-11-20 17:07:45
-2025-11-20 17:07:45
-2025-11-20 17:07:45
-2025-11-20 17:07:45
-2025-11-20 17:07:45
-2025-11-20 17:07:45
-2025-11-20 17:07:45
-2025-11-20 17:07:45
-2025-11-20 17:07:45
-2025-11-20 17:07:45
-2025-11-20 17:07:45
-2025-11-20 17:07:45
-2025-11-20 17:07:45
-2025-11-20 17:07:45
-2025-11-20 17:07:45
-2025-11-20 17:07:45
-2025-11-20 17:07:45
-2025-11-20 17:07:45
-2025-11-20 17:07:46
-2025-11-20 17:07:46
-2025-11-20 17:07:46
-2025-11-20 17:07:46
-2025-11-20 17:07:46
-2025-11-20 17:07:46
-2025-11-20 17:07:46
-2025-11-20 17:07:46
-2025-11-20 17:07:46
-2025-11-20 17:07:46
-2025-11-20 17:07:46
-2025-11-20 17:07:46
-2025-11-20 17:07:46
-2025-11-20 17:07:46
-2025-11-20 17:07:46
-2025-11-20 17:07:46
-2025-11-20 17:07:46
-2025-11-20 17:07:46
-2025-11-20 17:07:46
-2025-11-20 17:07:46
-2025-11-20 17:07:46
-2025-11-20 17:07:46
-2025-11-20 17:07:46
-2025-11-20 17:07:46
-2025-11-20 17:07:46
-2025-11-20 17:07:46
-2025-11-20 17:07:46
-2025-11-20 17:07:46
-2025-11-20 17:07:46
-2025-11-20 17:07:46
-2025-11-20 17:07:46
-2025-11-20 17:07:46
-2025-11-20 17:07:46
-2025-11-20 17:07:46
-2025-11-20 17:07:46
-2025-11-20 17:07:46
-2025-11-20 17:07:47
-2025-11-20 17:07:47
-2025-11-20 17:07:47
-2025-11-20 17:07:47
-2025-11-20 17:07:47
-2025-11-20 17:07:47
-2025-11-20 17:07:47
-2025-11-20 17:07:47
-2025-11-20 17:07:47
-2025-11-20 17:07:47
-2025-11-20 17:07:47
-2025-11-20 17:07:47
-2025-11-20 17:07:47
-2025-11-20 17:07:47
-2025-11-20 17:07:47
-2025-11-20 17:07:47
-2025-11-20 17:07:47
-2025-11-20 17:07:47
-2025-11-20 17:07:47
-2025-11-20 17:07:47
-2025-11-20 17:07:47
-2025-11-20 17:07:47
-2025-11-20 17:07:47
-2025-11-20 17:07:47
-2025-11-20 17:07:47
-2025-11-20 17:07:47
-2025-11-20 17:07:47
-2025-11-20 17:07:47
-2025-11-20 17:07:47
-2025-11-20 17:07:47
-2025-11-20 17:07:47
-2025-11-20 17:07:47
-2025-11-20 17:07:47
-2025-11-20 17:07:47
-2025-11-20 17:07:47
-2025-11-20 17:07:47
-2025-11-20 17:07:47
-2025-11-20 17:07:48
-2025-11-20 17:07:48
-2025-11-20 17:07:48
-2025-11-20 17:07:48
-2025-11-20 17:07:48
-2025-11-20 17:07:48
-2025-11-20 17:07:48
-2025-11-20 17:07:48
-2025-11-20 17:07:48
-2025-11-20 17:07:48
-2025-11-20 17:07:48
-2025-11-20 17:07:48
-2025-11-20 17:07:48
-2025-11-20 17:07:48
-2025-11-20 17:07:48
-2025-11-20 17:07:48
-2025-11-20 17:07:48
-2025-11-20 17:07:48
-2025-11-20 17:07:48
-2025-11-20 17:07:48
-2025-11-20 17:07:48
-2025-11-20 17:07:48
-2025-11-20 17:07:48
-2025-11-20 17:07:48
-2025-11-20 17:07:48
-2025-11-20 17:07:48
-2025-11-20 17:07:48
-2025-11-20 17:07:48
-2025-11-20 17:07:48
-2025-11-20 17:07:48
-2025-11-20 17:07:48
-2025-11-20 17:07:48
-2025-11-20 17:07:48
-2025-11-20 17:07:48
-2025-11-20 17:07:48
-2025-11-20 17:07:48
-2025-11-20 17:07:49
-2025-11-20 17:07:49
-2025-11-20 17:07:49
-2025-11-20 17:07:49
-2025-11-20 17:07:49
-2025-11-20 17:07:49
-2025-11-20 17:07:49
-2025-11-20 17:07:49
-2025-11-20 17:07:49
-2025-11-20 17:07:49
-2025-11-20 17:07:49
-2025-11-20 17:07:49
-2025-11-20 17:07:49
-2025-11-20 17:07:49
-2025-11-20 17:07:49
-2025-11-20 17:07:49
-2025-11-20 17:07:49
-2025-11-20 17:07:49
-2025-11-20 17:07:49
-2025-11-20 17:07:49
-2025-11-20 17:07:49
-2025-11-20 17:07:49
-2025-11-20 17:07:49
-2025-11-20 17:07:49
-2025-11-20 17:07:49
-2025-11-20 17:07:49
-2025-11-20 17:07:49
-2025-11-20 17:07:49
-2025-11-20 17:07:49
-2025-11-20 17:07:49
-2025-11-20 17:07:49
-2025-11-20 17:07:49
-2025-11-20 17:07:49
-2025-11-20 17:07:49
-2025-11-20 17:07:49
-2025-11-20 17:07:50
-2025-11-20 17:07:50
-2025-11-20 17:07:50
-2025-11-20 17:07:50
-2025-11-20 17:07:50
-2025-11-20 17:07:50
-2025-11-20 17:07:50
-2025-11-20 17:07:50
-2025-11-20 17:07:50
-2025-11-20 17:07:50
-2025-11-20 17:07:50
-2025-11-20 17:07:50
-2025-11-20 17:07:50
-2025-11-20 17:07:50
-2025-11-20 17:07:50
-2025-11-20 17:07:50
-2025-11-20 17:07:50
-2025-11-20 17:07:50
-2025-11-20 17:07:50
-2025-11-20 17:07:50
-2025-11-20 17:07:50
-2025-11-20 17:07:50
-2025-11-20 17:07:50
-2025-11-20 17:07:50
-2025-11-20 17:07:50
-2025-11-20 17:07:50
-2025-11-20 17:07:50
-2025-11-20 17:07:50
-2025-11-20 17:07:50
-2025-11-20 17:07:50
-2025-11-20 17:07:50
-2025-11-20 17:07:50
-2025-11-20 17:07:50
-2025-11-20 17:07:50
-2025-11-20 17:07:50
-2025-11-20 17:07:50
-2025-11-20 17:07:50
-2025-11-20 17:07:51
-2025-11-20 17:07:51
-2025-11-20 17:07:51
-2025-11-20 17:07:51
-2025-11-20 17:07:51
-2025-11-20 17:07:51
-2025-11-20 17:07:51
-2025-11-20 17:07:51
-2025-11-20 17:07:51
-2025-11-20 17:07:51
-2025-11-20 17:07:51
-2025-11-20 17:07:51
-2025-11-20 17:07:51
-2025-11-20 17:07:51
-2025-11-20 17:07:51
-2025-11-20 17:07:51
-2025-11-20 17:07:52
-2025-11-20 17:07:52
-2025-11-20 17:07:52
-2025-11-20 17:07:52
-2025-11-20 17:07:52
-2025-11-20 17:07:52
-2025-11-20 17:07:52
-2025-11-20 17:07:52
-2025-11-20 17:07:52
-2025-11-20 17:07:52
-2025-11-20 17:07:52
-2025-11-20 17:07:52
-2025-11-20 17:07:52
-2025-11-20 17:07:52
-2025-11-20 17:07:52
-2025-11-20 17:07:52
-2025-11-20 17:07:52
-2025-11-20 17:07:52
-2025-11-20 17:07:52
-2025-11-20 17:07:52
-2025-11-20 17:07:52
-2025-11-20 17:07:52
-2025-11-20 17:07:52
-2025-11-20 17:07:52
-2025-11-20 17:07:52
-2025-11-20 17:07:52
-2025-11-20 17:07:52
-2025-11-20 17:07:52
-2025-11-20 17:07:52
-2025-11-20 17:07:52
-2025-11-20 17:07:52
-2025-11-20 17:07:52
-2025-11-20 17:07:52
-2025-11-20 17:07:52
-2025-11-20 17:07:52
-2025-11-20 17:07:52
-2025-11-20 17:07:52
-2025-11-20 17:07:53
-2025-11-20 17:07:53
-2025-11-20 17:07:53
-2025-11-20 17:07:53
-2025-11-20 17:07:53
-2025-11-20 17:07:53
-2025-11-20 17:07:53
-2025-11-20 17:07:53
-2025-11-20 17:07:53
-2025-11-20 17:07:53
-2025-11-20 17:07:53
-2025-11-20 17:07:53
-2025-11-20 17:07:53
-2025-11-20 17:07:53
-2025-11-20 17:07:53
-2025-11-20 17:07:53
-2025-11-20 17:07:53
-2025-11-20 17:07:53
-2025-11-20 17:07:53
-2025-11-20 17:07:53
-2025-11-20 17:07:53
-2025-11-20 17:07:53
-2025-11-20 17:07:53
-2025-11-20 17:07:53
-2025-11-20 17:07:53
-2025-11-20 17:07:53
-2025-11-20 17:07:53
-2025-11-20 17:07:53
-2025-11-20 17:07:53
-2025-11-20 17:07:53
-2025-11-20 17:07:53
-2025-11-20 17:07:53
-2025-11-20 17:07:53
-2025-11-20 17:07:53
-2025-11-20 17:07:53
-2025-11-20 17:07:53
-2025-11-20 17:07:53
-2025-11-20 17:07:54
-2025-11-20 17:07:54
-2025-11-20 17:07:54
-2025-11-20 17:07:54
-2025-11-20 17:07:54
-2025-11-20 17:07:54
-2025-11-20 17:07:54
-2025-11-20 17:07:54
-2025-11-20 17:07:54
-2025-11-20 17:07:54
-2025-11-20 17:07:54
-2025-11-20 17:07:54
-2025-11-20 17:07:54
-2025-11-20 17:07:54
-2025-11-20 17:07:54
-2025-11-20 17:07:54
-2025-11-20 17:07:54
-2025-11-20 17:07:54
-2025-11-20 17:07:54
-2025-11-20 17:07:54
-2025-11-20 17:07:54
-2025-11-20 17:07:54
-2025-11-20 17:07:54
-2025-11-20 17:07:54
-2025-11-20 17:07:54
-2025-11-20 17:07:54
-2025-11-20 17:07:54
-2025-11-20 17:07:54
-2025-11-20 17:07:54
-2025-11-20 17:07:54
-2025-11-20 17:07:54
-2025-11-20 17:07:54
-2025-11-20 17:07:54
-2025-11-20 17:07:54
-2025-11-20 17:07:54
-2025-11-20 17:07:54
-2025-11-20 17:07:55
-2025-11-20 17:07:55
-2025-11-20 17:07:55
-2025-11-20 17:07:55
-2025-11-20 17:07:55
-2025-11-20 17:07:55
-2025-11-20 17:07:55
-2025-11-20 17:07:55
-2025-11-20 17:07:55
-2025-11-20 17:07:55
-2025-11-20 17:07:55
-2025-11-20 17:07:55
-2025-11-20 17:07:55
-2025-11-20 17:07:55
-2025-11-20 17:07:55
-2025-11-20 17:07:55
-2025-11-20 17:07:55
-2025-11-20 17:07:55
-2025-11-20 17:07:55
-2025-11-20 17:07:55
-2025-11-20 17:07:55
-2025-11-20 17:07:55
-2025-11-20 17:07:55
-2025-11-20 17:07:55
-2025-11-20 17:07:55
-2025-11-20 17:07:55
-2025-11-20 17:07:55
-2025-11-20 17:07:55
-2025-11-20 17:07:55
-2025-11-20 17:07:55
-2025-11-20 17:07:55
-2025-11-20 17:07:55
-2025-11-20 17:07:55
-2025-11-20 17:07:55
-2025-11-20 17:07:55
-2025-11-20 17:07:56
-2025-11-20 17:07:56
-2025-11-20 17:07:56
-2025-11-20 17:07:56
-2025-11-20 17:07:56
-2025-11-20 17:07:56
-2025-11-20 17:07:56
-2025-11-20 17:07:56
-2025-11-20 17:07:56
-2025-11-20 17:07:56
-2025-11-20 17:07:56
-2025-11-20 17:07:56
-2025-11-20 17:07:56
-2025-11-20 17:07:56
-2025-11-20 17:07:56
-2025-11-20 17:07:56
-2025-11-20 17:07:56
-2025-11-20 17:07:56
-2025-11-20 17:07:56
-2025-11-20 17:07:56
-2025-11-20 17:07:56
-2025-11-20 17:07:56
-2025-11-20 17:07:56
-2025-11-20 17:07:56
-2025-11-20 17:07:56
-2025-11-20 17:07:56
-2025-11-20 17:07:56
-2025-11-20 17:07:56
-2025-11-20 17:07:56
-2025-11-20 17:07:56
-2025-11-20 17:07:56
-2025-11-20 17:07:56
-2025-11-20 17:07:56
-2025-11-20 17:07:56
-2025-11-20 17:07:56
-2025-11-20 17:07:56
-2025-11-20 17:07:57
-2025-11-20 17:07:57
-2025-11-20 17:07:57
-2025-11-20 17:07:57
-2025-11-20 17:07:57
-2025-11-20 17:07:57
-2025-11-20 17:07:57
-2025-11-20 17:07:57
-2025-11-20 17:07:57
-2025-11-20 17:07:57
-2025-11-20 17:07:57
-2025-11-20 17:07:57
-2025-11-20 17:07:57
-2025-11-20 17:07:57
-2025-11-20 17:07:57
-2025-11-20 17:07:57
-2025-11-20 17:07:57
-2025-11-20 17:07:57
-2025-11-20 17:07:57
-2025-11-20 17:07:57
-2025-11-20 17:07:57
-2025-11-20 17:07:57
-2025-11-20 17:07:57
-2025-11-20 17:07:57
-2025-11-20 17:07:57
-2025-11-20 17:07:57
-2025-11-20 17:07:57
-2025-11-20 17:07:57
-2025-11-20 17:07:57
-2025-11-20 17:07:57
-2025-11-20 17:07:57
-2025-11-20 17:07:57
-2025-11-20 17:07:57
-2025-11-20 17:07:57
-2025-11-20 17:07:57
-2025-11-20 17:07:57
-2025-11-20 17:07:58
-2025-11-20 17:07:58
-2025-11-20 17:07:58
-2025-11-20 17:07:58
-2025-11-20 17:07:58
-2025-11-20 17:07:58
-2025-11-20 17:07:58
-2025-11-20 17:07:58
-2025-11-20 17:07:58
-2025-11-20 17:07:58
-2025-11-20 17:07:58
-2025-11-20 17:07:58
-2025-11-20 17:07:58
-2025-11-20 17:07:58
-2025-11-20 17:07:58
-2025-11-20 17:07:58
-2025-11-20 17:07:58
-2025-11-20 17:07:58
-2025-11-20 17:07:58
-2025-11-20 17:07:58
-2025-11-20 17:07:58
-2025-11-20 17:07:58
-2025-11-20 17:07:58
-2025-11-20 17:07:58
-2025-11-20 17:07:58
-2025-11-20 17:07:58
-2025-11-20 17:07:58
-2025-11-20 17:07:58
-2025-11-20 17:07:58
-2025-11-20 17:07:58
-2025-11-20 17:07:58
-2025-11-20 17:07:58
-2025-11-20 17:07:58
-2025-11-20 17:07:58
-2025-11-20 17:07:59
-2025-11-20 17:07:59
-2025-11-20 17:07:59
-2025-11-20 17:07:59
-2025-11-20 17:07:59
-2025-11-20 17:07:59
-2025-11-20 17:07:59
-2025-11-20 17:07:59
-2025-11-20 17:07:59
-2025-11-20 17:07:59
-2025-11-20 17:07:59
-2025-11-20 17:07:59
-2025-11-20 17:07:59
-2025-11-20 17:07:59
-2025-11-20 17:07:59
-2025-11-20 17:07:59
-2025-11-20 17:07:59
-2025-11-20 17:07:59
-2025-11-20 17:07:59
-2025-11-20 17:07:59
-2025-11-20 17:07:59
-2025-11-20 17:07:59
-2025-11-20 17:07:59
-2025-11-20 17:07:59
-2025-11-20 17:07:59
-2025-11-20 17:07:59
-2025-11-20 17:07:59
-2025-11-20 17:07:59
-2025-11-20 17:07:59
-2025-11-20 17:07:59
-2025-11-20 17:07:59
-2025-11-20 17:07:59
-2025-11-20 17:07:59
-2025-11-20 17:07:59
-2025-11-20 17:07:59
-2025-11-20 17:07:59
-2025-11-20 17:08:00
-2025-11-20 17:08:00
-2025-11-20 17:08:00
-2025-11-20 17:08:00
-2025-11-20 17:08:00
-2025-11-20 17:08:00
-2025-11-20 17:08:00
-2025-11-20 17:08:00
-2025-11-20 17:08:00
-2025-11-20 17:08:00
-2025-11-20 17:08:00
-2025-11-20 17:08:00
-2025-11-20 17:08:00
-2025-11-20 17:08:00
-2025-11-20 17:08:00
-2025-11-20 17:08:00
-2025-11-20 17:08:00
-2025-11-20 17:08:00
-2025-11-20 17:08:00
-2025-11-20 17:08:00
-2025-11-20 17:08:00
-2025-11-20 17:08:00
-2025-11-20 17:08:00
-2025-11-20 17:08:00
-2025-11-20 17:08:00
-2025-11-20 17:08:00
-2025-11-20 17:08:00
-2025-11-20 17:08:00
-2025-11-20 17:08:00
-2025-11-20 17:08:00
-2025-11-20 17:08:00
-2025-11-20 17:08:00
-2025-11-20 17:08:00
-2025-11-20 17:08:00
-2025-11-20 17:08:00
-2025-11-20 17:08:01
-2025-11-20 17:08:01
-2025-11-20 17:08:01
-2025-11-20 17:08:01
-2025-11-20 17:08:01
-2025-11-20 17:08:01
-2025-11-20 17:08:01
-2025-11-20 17:08:01
-2025-11-20 17:08:01
-2025-11-20 17:08:01
-2025-11-20 17:08:01
-2025-11-20 17:08:01
-2025-11-20 17:08:01
-2025-11-20 17:08:01
-2025-11-20 17:08:01
-2025-11-20 17:08:01
-2025-11-20 17:08:01
-2025-11-20 17:08:01
-2025-11-20 17:08:01
-2025-11-20 17:08:01
-2025-11-20 17:08:01
-2025-11-20 17:08:01
-2025-11-20 17:08:01
-2025-11-20 17:08:01
-2025-11-20 17:08:01
-2025-11-20 17:08:01
-2025-11-20 17:08:01
-2025-11-20 17:08:01
-2025-11-20 17:08:01
-2025-11-20 17:08:01
-2025-11-20 17:08:01
-2025-11-20 17:08:01
-2025-11-20 17:08:01
-2025-11-20 17:08:01
-2025-11-20 17:08:02
-2025-11-20 17:08:02
-2025-11-20 17:08:02
-2025-11-20 17:08:02
-2025-11-20 17:08:02
-2025-11-20 17:08:02
-2025-11-20 17:08:02
-2025-11-20 17:08:02
-2025-11-20 17:08:02
-2025-11-20 17:08:02
-2025-11-20 17:08:02
-2025-11-20 17:08:02
-2025-11-20 17:08:02
-2025-11-20 17:08:02
-2025-11-20 17:08:02
-2025-11-20 17:08:02
-2025-11-20 17:08:02
-2025-11-20 17:08:02
-2025-11-20 17:08:02
-2025-11-20 17:08:02
-2025-11-20 17:08:02
-2025-11-20 17:08:02
-2025-11-20 17:08:02
-2025-11-20 17:08:02
-2025-11-20 17:08:02
-2025-11-20 17:08:02
-2025-11-20 17:08:02
-2025-11-20 17:08:02
-2025-11-20 17:08:02
-2025-11-20 17:08:02
-2025-11-20 17:08:02
-2025-11-20 17:08:02
-2025-11-20 17:08:02
-2025-11-20 17:08:02
-2025-11-20 17:08:03
-2025-11-20 17:08:03
-2025-11-20 17:08:03
-2025-11-20 17:08:03
-2025-11-20 17:08:03
-2025-11-20 17:08:03
-2025-11-20 17:08:03
-2025-11-20 17:08:03
-2025-11-20 17:08:03
-2025-11-20 17:08:03
-2025-11-20 17:08:03
-2025-11-20 17:08:03
-2025-11-20 17:08:03
-2025-11-20 17:08:03
-2025-11-20 17:08:03
-2025-11-20 17:08:03
-2025-11-20 17:08:03
-2025-11-20 17:08:03
-2025-11-20 17:08:03
-2025-11-20 17:08:03
-2025-11-20 17:08:03
-2025-11-20 17:08:03
-2025-11-20 17:08:03
-2025-11-20 17:08:03
-2025-11-20 17:08:03
-2025-11-20 17:08:03
-2025-11-20 17:08:03
-2025-11-20 17:08:03
-2025-11-20 17:08:03
-2025-11-20 17:08:03
-2025-11-20 17:08:03
-2025-11-20 17:08:03
-2025-11-20 17:08:03
-2025-11-20 17:08:03
-2025-11-20 17:08:03
-2025-11-20 17:08:03
-2025-11-20 17:08:04
-2025-11-20 17:08:04
-2025-11-20 17:08:04
-2025-11-20 17:08:04
-2025-11-20 17:08:04
-2025-11-20 17:08:04
-2025-11-20 17:08:04
-2025-11-20 17:08:04
-2025-11-20 17:08:04
-2025-11-20 17:08:04
-2025-11-20 17:08:04
-2025-11-20 17:08:04
-2025-11-20 17:08:04
-2025-11-20 17:08:04
-2025-11-20 17:08:04
-2025-11-20 17:08:04
-2025-11-20 17:08:04
-2025-11-20 17:08:04
-2025-11-20 17:08:04
-2025-11-20 17:08:04
-2025-11-20 17:08:04
-2025-11-20 17:08:04
-2025-11-20 17:08:04
-2025-11-20 17:08:04
-2025-11-20 17:08:04
-2025-11-20 17:08:04
-2025-11-20 17:08:04
-2025-11-20 17:08:04
-2025-11-20 17:08:04
-2025-11-20 17:08:04
-2025-11-20 17:08:04
-2025-11-20 17:08:04
-2025-11-20 17:08:04
-2025-11-20 17:08:04
-2025-11-20 17:08:04
-2025-11-20 17:08:05
-2025-11-20 17:08:05
-2025-11-20 17:08:05
-2025-11-20 17:08:05
-2025-11-20 17:08:05
-2025-11-20 17:08:05
-2025-11-20 17:08:05
-2025-11-20 17:08:05
-2025-11-20 17:08:05
-2025-11-20 17:08:05
-2025-11-20 17:08:05
-2025-11-20 17:08:05
-2025-11-20 17:08:05
-2025-11-20 17:08:05
-2025-11-20 17:08:05
-2025-11-20 17:08:05
-2025-11-20 17:08:05
-2025-11-20 17:08:05
-2025-11-20 17:08:05
-2025-11-20 17:08:05
-2025-11-20 17:08:05
-2025-11-20 17:08:05
-2025-11-20 17:08:05
-2025-11-20 17:08:05
-2025-11-20 17:08:05
-2025-11-20 17:08:05
-2025-11-20 17:08:05
-2025-11-20 17:08:05
-2025-11-20 17:08:05
-2025-11-20 17:08:05
-2025-11-20 17:08:05
-2025-11-20 17:08:05
-2025-11-20 17:08:05
-2025-11-20 17:08:05
-2025-11-20 17:08:06
-2025-11-20 17:08:06
-2025-11-20 17:08:06
-2025-11-20 17:08:06
-2025-11-20 17:08:06
-2025-11-20 17:08:06
-2025-11-20 17:08:06
-2025-11-20 17:08:06
-2025-11-20 17:08:06
-2025-11-20 17:08:06
-2025-11-20 17:08:06
-2025-11-20 17:08:06
-2025-11-20 17:08:06
-2025-11-20 17:08:06
-2025-11-20 17:08:06
-2025-11-20 17:08:06
-2025-11-20 17:08:06
-2025-11-20 17:08:06
-2025-11-20 17:08:06
-2025-11-20 17:08:06
-2025-11-20 17:08:06
-2025-11-20 17:08:06
-2025-11-20 17:08:06
-2025-11-20 17:08:06
-2025-11-20 17:08:06
-2025-11-20 17:08:06
-2025-11-20 17:08:06
-2025-11-20 17:08:06
-2025-11-20 17:08:06
-2025-11-20 17:08:06
-2025-11-20 17:08:06
-2025-11-20 17:08:06
-2025-11-20 17:08:06
-2025-11-20 17:08:06
-2025-11-20 17:08:07
-2025-11-20 17:08:07
-2025-11-20 17:08:07
-2025-11-20 17:08:07
-2025-11-20 17:08:07
-2025-11-20 17:08:07
-2025-11-20 17:08:07
-2025-11-20 17:08:07
-2025-11-20 17:08:07
-2025-11-20 17:08:07
-2025-11-20 17:08:07
-2025-11-20 17:08:07
-2025-11-20 17:08:07
-2025-11-20 17:08:07
-2025-11-20 17:08:07
-2025-11-20 17:08:07
-2025-11-20 17:08:07
-2025-11-20 17:08:07
-2025-11-20 17:08:07
-2025-11-20 17:08:07
-2025-11-20 17:08:07
-2025-11-20 17:08:07
-2025-11-20 17:08:07
-2025-11-20 17:08:07
-2025-11-20 17:08:07
-2025-11-20 17:08:07
-2025-11-20 17:08:07
-2025-11-20 17:08:07
-2025-11-20 17:08:07
-2025-11-20 17:08:07
-2025-11-20 17:08:07
-2025-11-20 17:08:07
-2025-11-20 17:08:07
-2025-11-20 17:08:07
-2025-11-20 17:08:07
-2025-11-20 17:08:08
-2025-11-20 17:08:08
-2025-11-20 17:08:08
-2025-11-20 17:08:08
-2025-11-20 17:08:08
-2025-11-20 17:08:08
-2025-11-20 17:08:08
-2025-11-20 17:08:08
-2025-11-20 17:08:08
-2025-11-20 17:08:08
-2025-11-20 17:08:08
-2025-11-20 17:08:08
-2025-11-20 17:08:08
-2025-11-20 17:08:08
-2025-11-20 17:08:08
-2025-11-20 17:08:08
-2025-11-20 17:08:08
-2025-11-20 17:08:08
-2025-11-20 17:08:08
-2025-11-20 17:08:08
-2025-11-20 17:08:08
-2025-11-20 17:08:08
-2025-11-20 17:08:08
-2025-11-20 17:08:08
-2025-11-20 17:08:08
-2025-11-20 17:08:08
-2025-11-20 17:08:08
-2025-11-20 17:08:08
-2025-11-20 17:08:08
-2025-11-20 17:08:08
-2025-11-20 17:08:08
-2025-11-20 17:08:08
-2025-11-20 17:08:08
-2025-11-20 17:08:08
-2025-11-20 17:08:08
-2025-11-20 17:08:08
-2025-11-20 17:08:08
-2025-11-20 17:08:08
-2025-11-20 17:08:08
-2025-11-20 17:08:08
-2025-11-20 17:08:08
-2025-11-20 17:08:08
-2025-11-20 17:08:08
-2025-11-20 17:08:08
-2025-11-20 17:08:08
-2025-11-20 17:08:08
-2025-11-20 17:08:08
-2025-11-20 17:08:08
-2025-11-20 17:08:08
-2025-11-20 17:08:08
-2025-11-20 17:08:08
-2025-11-20 17:08:08
-2025-11-20 17:08:09
-2025-11-20 17:08:09
-2025-11-20 17:08:09
-2025-11-20 17:08:09
-2025-11-20 17:08:09
-2025-11-20 17:08:09
-2025-11-20 17:08:09
-2025-11-20 17:08:09
-2025-11-20 17:08:09
-2025-11-20 17:08:09
-2025-11-20 17:08:09
-2025-11-20 17:08:09
-2025-11-20 17:08:09
-2025-11-20 17:08:09
-2025-11-20 17:08:09
-2025-11-20 17:08:09
-2025-11-20 17:08:09
-2025-11-20 17:08:09
-2025-11-20 17:08:09
-2025-11-20 17:08:09
-2025-11-20 17:08:09
-2025-11-20 17:08:09
-2025-11-20 17:08:09
-2025-11-20 17:08:09
-2025-11-20 17:08:09
-2025-11-20 17:08:09
-2025-11-20 17:08:09
-2025-11-20 17:08:09
468.0 KiB2025-08-15 16:02:47
6.9 KiB2025-08-15 16:02:47
3.4 MiB2025-08-15 16:12:54
628.8 KiB2025-11-04 17:02:01
7.1 KiB2025-11-04 17:02:01
3.4 MiB2025-11-04 17:05:49
617.0 KiB2025-11-11 17:02:02
7.1 KiB2025-11-11 17:02:02
3.4 MiB2025-11-11 17:03:46
0 B2025-11-20 17:02:01
1015.2 KiB2025-11-20 17:02:01
393.9 KiB2025-11-20 17:02:01
243.2 KiB2025-11-20 17:02:01
513.8 KiB2025-11-20 17:02:01
7.5 KiB2025-11-20 17:02:02
11.9 KiB2025-11-20 17:02:02
484.2 KiB2025-11-20 17:02:02
7.1 KiB2025-11-20 17:02:02
7.2 KiB2025-11-20 17:02:02
7.1 KiB2025-11-20 17:02:02
611.7 KiB2025-11-20 17:02:02
3.3 KiB2025-11-20 17:02:02
6.0 KiB2025-11-20 17:02:02
7.1 KiB2025-11-20 17:02:02
617.8 KiB2025-11-20 17:02:02
505.8 KiB2025-11-20 17:02:02
7.0 KiB2025-11-20 17:02:02
8.1 KiB2025-11-20 17:02:02
2.6 KiB2025-11-20 17:02:02
3.0 MiB2025-11-20 17:08:11
3.4 MiB2025-11-20 17:08:14
3.4 MiB2025-11-20 17:08:18
1.3 MiB2025-11-20 17:08:23
2.5 MiB2025-11-20 17:08:23
13.4 MiB2025-11-20 17:08:37
76.0 MiB2025-11-20 17:09:37