Package: variants Version: 1.33.1 Command: chmod a+r variants -R && F:\biocbuild\bbs-3.22-bioc\R\bin\R.exe CMD build --keep-empty-dirs --no-resave-data variants StartedAt: 2025-08-15 13:20:00 -0400 (Fri, 15 Aug 2025) EndedAt: 2025-08-15 13:21:01 -0400 (Fri, 15 Aug 2025) EllapsedTime: 61.0 seconds RetCode: 0 Status: OK PackageFile: variants_1.33.1.tar.gz PackageFileSize: 4.84 MiB