Package: variants Version: 1.33.1 Command: /home/biocbuild/bbs-3.22-bioc/R/bin/R CMD build --keep-empty-dirs --no-resave-data variants StartedAt: 2025-09-30 13:12:16 -0400 (Tue, 30 Sep 2025) EndedAt: 2025-09-30 13:13:29 -0400 (Tue, 30 Sep 2025) EllapsedTime: 72.3 seconds RetCode: 0 Status: OK PackageFile: variants_1.33.1.tar.gz PackageFileSize: 4.84 MiB