Package: simpleSingleCell Version: 1.33.0 Command: /home/biocbuild/bbs-3.22-bioc/R/bin/R CMD INSTALL simpleSingleCell StartedAt: 2025-07-15 13:00:17 -0400 (Tue, 15 Jul 2025) EndedAt: 2025-07-15 13:00:21 -0400 (Tue, 15 Jul 2025) EllapsedTime: 4.4 seconds RetCode: 0 Status: OK