Package: sequencing Version: 1.33.0 Command: chmod a+r sequencing -R && F:\biocbuild\bbs-3.22-bioc\R\bin\R.exe CMD build --keep-empty-dirs --no-resave-data sequencing StartedAt: 2025-06-27 13:14:40 -0400 (Fri, 27 Jun 2025) EndedAt: 2025-06-27 13:16:02 -0400 (Fri, 27 Jun 2025) EllapsedTime: 81.8 seconds RetCode: 0 Status: OK PackageFile: sequencing_1.33.0.tar.gz PackageFileSize: 403.7 KiB