Package: rnaseqGene Version: 1.33.0 Command: chmod a+r rnaseqGene -R && F:\biocbuild\bbs-3.22-bioc\R\bin\R.exe CMD build --keep-empty-dirs --no-resave-data rnaseqGene StartedAt: 2025-07-18 13:14:19 -0400 (Fri, 18 Jul 2025) EndedAt: 2025-07-18 13:17:09 -0400 (Fri, 18 Jul 2025) EllapsedTime: 169.8 seconds RetCode: 0 Status: OK PackageFile: rnaseqGene_1.33.0.tar.gz PackageFileSize: 693.3 KiB