Package: zebrafishRNASeq Version: 1.31.0 Command: /home/biocbuild/bbs-3.23-bioc/R/bin/R CMD INSTALL zebrafishRNASeq StartedAt: 2025-11-18 10:55:34 -0500 (Tue, 18 Nov 2025) EndedAt: 2025-11-18 10:55:35 -0500 (Tue, 18 Nov 2025) EllapsedTime: 1.2 seconds RetCode: 0 Status: OK