Package: yeastRNASeq Version: 0.49.0 Command: /home/biocbuild/bbs-3.23-bioc/R/bin/R CMD INSTALL yeastRNASeq StartedAt: 2025-11-18 10:55:50 -0500 (Tue, 18 Nov 2025) EndedAt: 2025-11-18 10:55:57 -0500 (Tue, 18 Nov 2025) EllapsedTime: 7.2 seconds RetCode: 0 Status: OK