Package: yeastExpData Version: 0.57.0 Command: /home/biocbuild/bbs-3.23-bioc/R/bin/R CMD build --keep-empty-dirs --no-resave-data yeastExpData StartedAt: 2025-11-18 11:51:07 -0500 (Tue, 18 Nov 2025) EndedAt: 2025-11-18 11:51:15 -0500 (Tue, 18 Nov 2025) EllapsedTime: 8.3 seconds RetCode: 0 Status: OK PackageFile: yeastExpData_0.57.0.tar.gz PackageFileSize: 935 KiB