Package: tximportData Version: 1.37.1 Command: /home/biocbuild/bbs-3.22-bioc/R/bin/R CMD build --keep-empty-dirs --no-resave-data tximportData StartedAt: 2025-07-17 11:47:24 -0400 (Thu, 17 Jul 2025) EndedAt: 2025-07-17 11:49:48 -0400 (Thu, 17 Jul 2025) EllapsedTime: 143.8 seconds RetCode: 0 Status: OK PackageFile: tximportData_1.37.1.tar.gz PackageFileSize: 330.6 MiB