Package: tuberculosis Version: 1.17.0 Command: /home/biocbuild/bbs-3.23-bioc/R/bin/R CMD INSTALL tuberculosis StartedAt: 2025-11-13 10:59:05 -0500 (Thu, 13 Nov 2025) EndedAt: 2025-11-13 10:59:31 -0500 (Thu, 13 Nov 2025) EllapsedTime: 25.8 seconds RetCode: 0 Status: OK