Package: topdownrdata Version: 1.33.0 Command: /home/biocbuild/bbs-3.23-bioc/R/bin/R CMD INSTALL topdownrdata StartedAt: 2025-11-18 11:00:42 -0500 (Tue, 18 Nov 2025) EndedAt: 2025-11-18 11:01:22 -0500 (Tue, 18 Nov 2025) EllapsedTime: 39.5 seconds RetCode: 0 Status: OK