Package: tofsimsData Version: 1.39.0 Command: /home/biocbuild/bbs-3.23-bioc/R/bin/R CMD build --keep-empty-dirs --no-resave-data tofsimsData StartedAt: 2025-11-18 11:48:58 -0500 (Tue, 18 Nov 2025) EndedAt: 2025-11-18 11:49:06 -0500 (Tue, 18 Nov 2025) EllapsedTime: 8.0 seconds RetCode: 0 Status: OK PackageFile: tofsimsData_1.39.0.tar.gz PackageFileSize: 10.5 MiB