Package: tissueTreg Version: 1.31.0 Command: /home/biocbuild/bbs-3.23-bioc/R/bin/R CMD check --install=check:tissueTreg.install-out.txt --library=/home/biocbuild/bbs-3.23-bioc/R/site-library --timings tissueTreg_1.31.0.tar.gz StartedAt: 2025-11-18 13:18:15 -0500 (Tue, 18 Nov 2025) EndedAt: 2025-11-18 13:22:00 -0500 (Tue, 18 Nov 2025) EllapsedTime: 224.9 seconds RetCode: 0 Status: OK CheckDir: tissueTreg.Rcheck Warnings: 0