Package: tissueTreg Version: 1.31.0 Command: /home/biocbuild/bbs-3.23-bioc/R/bin/R CMD build --keep-empty-dirs --no-resave-data tissueTreg StartedAt: 2025-11-18 11:48:43 -0500 (Tue, 18 Nov 2025) EndedAt: 2025-11-18 11:50:23 -0500 (Tue, 18 Nov 2025) EllapsedTime: 99.7 seconds RetCode: 0 Status: OK PackageFile: tissueTreg_1.31.0.tar.gz PackageFileSize: 684.7 KiB