Package: tinesath1cdf Version: 1.49.0 Command: /home/biocbuild/bbs-3.23-bioc/R/bin/R CMD build --keep-empty-dirs --no-resave-data tinesath1cdf StartedAt: 2025-11-18 11:48:40 -0500 (Tue, 18 Nov 2025) EndedAt: 2025-11-18 11:48:41 -0500 (Tue, 18 Nov 2025) EllapsedTime: 1.0 seconds RetCode: 0 Status: OK PackageFile: tinesath1cdf_1.49.0.tar.gz PackageFileSize: 1.478 MiB