Package: timecoursedata Version: 1.21.0 Command: /home/biocbuild/bbs-3.23-bioc/R/bin/R CMD INSTALL timecoursedata StartedAt: 2025-11-18 11:00:33 -0500 (Tue, 18 Nov 2025) EndedAt: 2025-11-18 11:00:56 -0500 (Tue, 18 Nov 2025) EllapsedTime: 23.4 seconds RetCode: 0 Status: OK