Package: timecoursedata Version: 1.21.0 Command: /home/biocbuild/bbs-3.23-bioc/R/bin/R CMD check --install=check:timecoursedata.install-out.txt --library=/home/biocbuild/bbs-3.23-bioc/R/site-library --timings timecoursedata_1.21.0.tar.gz StartedAt: 2025-11-20 13:22:35 -0500 (Thu, 20 Nov 2025) EndedAt: 2025-11-20 13:25:43 -0500 (Thu, 20 Nov 2025) EllapsedTime: 187.8 seconds RetCode: 0 Status: OK CheckDir: timecoursedata.Rcheck Warnings: 0