Package: tartare Version: 1.25.0 Command: /home/biocbuild/bbs-3.23-bioc/R/bin/R CMD INSTALL tartare StartedAt: 2025-11-18 10:57:24 -0500 (Tue, 18 Nov 2025) EndedAt: 2025-11-18 10:57:37 -0500 (Tue, 18 Nov 2025) EllapsedTime: 13.2 seconds RetCode: 0 Status: OK