Package: tartare Version: 1.25.0 Command: /home/biocbuild/bbs-3.23-bioc/R/bin/R CMD build --keep-empty-dirs --no-resave-data tartare StartedAt: 2025-11-18 11:46:27 -0500 (Tue, 18 Nov 2025) EndedAt: 2025-11-18 11:46:52 -0500 (Tue, 18 Nov 2025) EllapsedTime: 24.8 seconds RetCode: 0 Status: OK PackageFile: tartare_1.25.0.tar.gz PackageFileSize: 307.4 KiB