Package: spqnData Version: 1.23.0 Command: /home/biocbuild/bbs-3.23-bioc/R/bin/R CMD INSTALL spqnData StartedAt: 2025-11-18 10:59:35 -0500 (Tue, 18 Nov 2025) EndedAt: 2025-11-18 10:59:49 -0500 (Tue, 18 Nov 2025) EllapsedTime: 14.2 seconds RetCode: 0 Status: OK