Package: smokingMouse Version: 1.9.0 Command: /home/biocbuild/bbs-3.23-bioc/R/bin/R CMD INSTALL smokingMouse StartedAt: 2025-11-18 10:55:10 -0500 (Tue, 18 Nov 2025) EndedAt: 2025-11-18 10:55:13 -0500 (Tue, 18 Nov 2025) EllapsedTime: 2.2 seconds RetCode: 0 Status: OK