Package: smokingMouse Version: 1.9.0 Command: /home/biocbuild/bbs-3.23-bioc/R/bin/R CMD build --keep-empty-dirs --no-resave-data smokingMouse StartedAt: 2025-11-18 11:44:11 -0500 (Tue, 18 Nov 2025) EndedAt: 2025-11-18 11:44:36 -0500 (Tue, 18 Nov 2025) EllapsedTime: 24.9 seconds RetCode: 0 Status: OK PackageFile: smokingMouse_1.9.0.tar.gz PackageFileSize: 5.107 MiB