Package: shinyMethylData Version: 1.31.0 Command: /home/biocbuild/bbs-3.23-bioc/R/bin/R CMD check --install=check:shinyMethylData.install-out.txt --library=/home/biocbuild/bbs-3.23-bioc/R/site-library --timings shinyMethylData_1.31.0.tar.gz StartedAt: 2025-11-20 13:12:42 -0500 (Thu, 20 Nov 2025) EndedAt: 2025-11-20 13:13:01 -0500 (Thu, 20 Nov 2025) EllapsedTime: 19.4 seconds RetCode: 0 Status: WARNINGS CheckDir: shinyMethylData.Rcheck Warnings: 2