Package: scATAC.Explorer Version: 1.15.0 Command: /home/biocbuild/bbs-3.22-bioc/R/bin/R CMD check --install=check:scATAC.Explorer.install-out.txt --library=/home/biocbuild/bbs-3.22-bioc/R/site-library --timings scATAC.Explorer_1.15.0.tar.gz StartedAt: 2025-07-15 12:59:05 -0400 (Tue, 15 Jul 2025) EndedAt: 2025-07-15 13:30:41 -0400 (Tue, 15 Jul 2025) EllapsedTime: 1895.3 seconds RetCode: 0 Status: OK CheckDir: scATAC.Explorer.Rcheck Warnings: 0