Package: sampleClassifierData Version: 1.35.0 Command: /home/biocbuild/bbs-3.23-bioc/R/bin/R CMD check --install=check:sampleClassifierData.install-out.txt --library=/home/biocbuild/bbs-3.23-bioc/R/site-library --timings sampleClassifierData_1.35.0.tar.gz StartedAt: 2025-11-18 13:03:42 -0500 (Tue, 18 Nov 2025) EndedAt: 2025-11-18 13:05:27 -0500 (Tue, 18 Nov 2025) EllapsedTime: 104.6 seconds RetCode: 0 Status: OK CheckDir: sampleClassifierData.Rcheck Warnings: 0